BEGIN:VCALENDAR
VERSION:2.0
PRODID:-//Väddöbygden - ECPv6.15.20//NONSGML v1.0//EN
CALSCALE:GREGORIAN
METHOD:PUBLISH
X-ORIGINAL-URL:https://vaddobygden.se
X-WR-CALDESC:Händelser för Väddöbygden
REFRESH-INTERVAL;VALUE=DURATION:PT1H
X-Robots-Tag:noindex
X-PUBLISHED-TTL:PT1H
BEGIN:VTIMEZONE
TZID:Europe/Stockholm
BEGIN:DAYLIGHT
TZOFFSETFROM:+0100
TZOFFSETTO:+0200
TZNAME:CEST
DTSTART:20240331T010000
END:DAYLIGHT
BEGIN:STANDARD
TZOFFSETFROM:+0200
TZOFFSETTO:+0100
TZNAME:CET
DTSTART:20241027T010000
END:STANDARD
BEGIN:DAYLIGHT
TZOFFSETFROM:+0100
TZOFFSETTO:+0200
TZNAME:CEST
DTSTART:20250330T010000
END:DAYLIGHT
BEGIN:STANDARD
TZOFFSETFROM:+0200
TZOFFSETTO:+0100
TZNAME:CET
DTSTART:20251026T010000
END:STANDARD
BEGIN:DAYLIGHT
TZOFFSETFROM:+0100
TZOFFSETTO:+0200
TZNAME:CEST
DTSTART:20260329T010000
END:DAYLIGHT
BEGIN:STANDARD
TZOFFSETFROM:+0200
TZOFFSETTO:+0100
TZNAME:CET
DTSTART:20261025T010000
END:STANDARD
END:VTIMEZONE
BEGIN:VEVENT
DTSTART;TZID=Europe/Stockholm:20250630T100000
DTEND;TZID=Europe/Stockholm:20250731T110000
DTSTAMP:20260424T084558
CREATED:20250625T121756Z
LAST-MODIFIED:20250625T121756Z
UID:10000235-1751277600-1753959600@vaddobygden.se
SUMMARY:Sommargympa på dansbanan
DESCRIPTION:Sommargympa på Dansbanan i Grisslehamn kl 10.00-11.00 nästan varje dag under tiden 30 juni till 31 juli. Sommarkort för hela sommaren 400 kr (då blir du också medlem och är försäkrad och får ta del av medlemsförmåner som gratisresa för 4 personer på Eckerölinjen – hur många gånger du vill fram till 31 december. Engångsavgift 100 kr (utan försäkring och förmåner). Anmälan på hemsidan http://www.grisslehamnssportklubb.se Där kan du även se schemat eventuellt kan det komma till flera pass.
URL:https://vaddobygden.se/event/sommargympa-pa-dansbanan/
LOCATION:Grisslehamns Sportklubb / dansbana\, Medborgarvägen 6\, 764 56 Grisslehamn\, Grisslehamn\, Sverige
CATEGORIES:Sport & Motion
GEO:60.097481416338;18.803752855499
X-APPLE-STRUCTURED-LOCATION;VALUE=URI;X-ADDRESS=Grisslehamns Sportklubb / dansbana Medborgarvägen 6 764 56 Grisslehamn Grisslehamn Sverige;X-APPLE-RADIUS=500;X-TITLE=Medborgarvägen 6\, 764 56 Grisslehamn:geo:18.803752855499,60.097481416338
END:VEVENT
END:VCALENDAR