BEGIN:VCALENDAR
VERSION:2.0
PRODID:-//Väddöbygden - ECPv6.15.20//NONSGML v1.0//EN
CALSCALE:GREGORIAN
METHOD:PUBLISH
X-ORIGINAL-URL:https://vaddobygden.se
X-WR-CALDESC:Händelser för Väddöbygden
REFRESH-INTERVAL;VALUE=DURATION:PT1H
X-Robots-Tag:noindex
X-PUBLISHED-TTL:PT1H
BEGIN:VTIMEZONE
TZID:Europe/Stockholm
BEGIN:DAYLIGHT
TZOFFSETFROM:+0100
TZOFFSETTO:+0200
TZNAME:CEST
DTSTART:20240331T010000
END:DAYLIGHT
BEGIN:STANDARD
TZOFFSETFROM:+0200
TZOFFSETTO:+0100
TZNAME:CET
DTSTART:20241027T010000
END:STANDARD
BEGIN:DAYLIGHT
TZOFFSETFROM:+0100
TZOFFSETTO:+0200
TZNAME:CEST
DTSTART:20250330T010000
END:DAYLIGHT
BEGIN:STANDARD
TZOFFSETFROM:+0200
TZOFFSETTO:+0100
TZNAME:CET
DTSTART:20251026T010000
END:STANDARD
BEGIN:DAYLIGHT
TZOFFSETFROM:+0100
TZOFFSETTO:+0200
TZNAME:CEST
DTSTART:20260329T010000
END:DAYLIGHT
BEGIN:STANDARD
TZOFFSETFROM:+0200
TZOFFSETTO:+0100
TZNAME:CET
DTSTART:20261025T010000
END:STANDARD
END:VTIMEZONE
BEGIN:VEVENT
DTSTART;TZID=Europe/Stockholm:20251011T160000
DTEND;TZID=Europe/Stockholm:20251011T183000
DTSTAMP:20260424T044328
CREATED:20250929T114243Z
LAST-MODIFIED:20250929T114342Z
UID:10000242-1760198400-1760207400@vaddobygden.se
SUMMARY:Musikcafé - Kröns trädgård
DESCRIPTION:Musikcafé – Kröns trädgård\, Toomas Tuulse spelar och läser egna och andras Visor och poesi\nMedverkande:\nLena Kristina Tuulse och Karolina Losell – sång\nJonna Sandell -fiol och sång\nLiiso Åkerberg – flöjt
URL:https://vaddobygden.se/event/musikcafe-krons-tradgard-2/
LOCATION:Kröns Trädgårds café\, XRH8+MC Hammarby\, Väddö\, Väddö\, 76491\, Sverige
CATEGORIES:Musik & Mat
END:VEVENT
END:VCALENDAR