BEGIN:VCALENDAR
VERSION:2.0
PRODID:-//Väddöbygden - ECPv6.15.20//NONSGML v1.0//EN
CALSCALE:GREGORIAN
METHOD:PUBLISH
X-ORIGINAL-URL:https://vaddobygden.se
X-WR-CALDESC:Händelser för Väddöbygden
REFRESH-INTERVAL;VALUE=DURATION:PT1H
X-Robots-Tag:noindex
X-PUBLISHED-TTL:PT1H
BEGIN:VTIMEZONE
TZID:Europe/Stockholm
BEGIN:DAYLIGHT
TZOFFSETFROM:+0100
TZOFFSETTO:+0200
TZNAME:CEST
DTSTART:20240331T010000
END:DAYLIGHT
BEGIN:STANDARD
TZOFFSETFROM:+0200
TZOFFSETTO:+0100
TZNAME:CET
DTSTART:20241027T010000
END:STANDARD
BEGIN:DAYLIGHT
TZOFFSETFROM:+0100
TZOFFSETTO:+0200
TZNAME:CEST
DTSTART:20250330T010000
END:DAYLIGHT
BEGIN:STANDARD
TZOFFSETFROM:+0200
TZOFFSETTO:+0100
TZNAME:CET
DTSTART:20251026T010000
END:STANDARD
BEGIN:DAYLIGHT
TZOFFSETFROM:+0100
TZOFFSETTO:+0200
TZNAME:CEST
DTSTART:20260329T010000
END:DAYLIGHT
BEGIN:STANDARD
TZOFFSETFROM:+0200
TZOFFSETTO:+0100
TZNAME:CET
DTSTART:20261025T010000
END:STANDARD
END:VTIMEZONE
BEGIN:VEVENT
DTSTART;TZID=Europe/Stockholm:20251213T110000
DTEND;TZID=Europe/Stockholm:20251213T150000
DTSTAMP:20260424T015659
CREATED:20251121T113344Z
LAST-MODIFIED:20251121T113455Z
UID:10000248-1765623600-1765638000@vaddobygden.se
SUMMARY:Julmarknad - Bergby Gård
DESCRIPTION:Julmarknad – Bergby Gård med härlig julstämning i kombination med Lilla Saluhallen på Bergby Gård \nVi pyntar återigen upp gården samt i vår fina loge och skapar härlig julstämning tillsammans. \nJulmarknaden bjuder på lokala hantverk\, tomtar och godsaker\, ridande luciatåg och självklart är tomten på plats och tar emot barnens önskningar. \nI saluhallen kan du handla hem en massa godsaker till julens festligheter från lokala producenter. \nVår matservering är öppen med glögg\, korv\, skinksmörgås\, jul-landgång och fika.
URL:https://vaddobygden.se/event/julmarknad-bergby-gard/
LOCATION:Bergby Gård & Logi\, Bergby 1\,\, Hallstavik\, 763 94\, Sverige
CATEGORIES:Julevenemang,Marknader
GEO:60.058173283163;18.75132696734
X-APPLE-STRUCTURED-LOCATION;VALUE=URI;X-ADDRESS=Bergby Gård & Logi Bergby 1 Hallstavik 763 94 Sverige;X-APPLE-RADIUS=500;X-TITLE=Bergby 1\,:geo:18.75132696734,60.058173283163
END:VEVENT
END:VCALENDAR