BEGIN:VCALENDAR
VERSION:2.0
PRODID:-//Väddöbygden - ECPv6.15.20//NONSGML v1.0//EN
CALSCALE:GREGORIAN
METHOD:PUBLISH
X-ORIGINAL-URL:https://vaddobygden.se
X-WR-CALDESC:Händelser för Väddöbygden
REFRESH-INTERVAL;VALUE=DURATION:PT1H
X-Robots-Tag:noindex
X-PUBLISHED-TTL:PT1H
BEGIN:VTIMEZONE
TZID:Europe/Stockholm
BEGIN:DAYLIGHT
TZOFFSETFROM:+0100
TZOFFSETTO:+0200
TZNAME:CEST
DTSTART:20250330T010000
END:DAYLIGHT
BEGIN:STANDARD
TZOFFSETFROM:+0200
TZOFFSETTO:+0100
TZNAME:CET
DTSTART:20251026T010000
END:STANDARD
BEGIN:DAYLIGHT
TZOFFSETFROM:+0100
TZOFFSETTO:+0200
TZNAME:CEST
DTSTART:20260329T010000
END:DAYLIGHT
BEGIN:STANDARD
TZOFFSETFROM:+0200
TZOFFSETTO:+0100
TZNAME:CET
DTSTART:20261025T010000
END:STANDARD
BEGIN:DAYLIGHT
TZOFFSETFROM:+0100
TZOFFSETTO:+0200
TZNAME:CEST
DTSTART:20270328T010000
END:DAYLIGHT
BEGIN:STANDARD
TZOFFSETFROM:+0200
TZOFFSETTO:+0100
TZNAME:CET
DTSTART:20271031T010000
END:STANDARD
END:VTIMEZONE
BEGIN:VEVENT
DTSTART;TZID=Europe/Stockholm:20260329T160000
DTEND;TZID=Europe/Stockholm:20260329T180000
DTSTAMP:20260423T220131
CREATED:20260224T122832Z
LAST-MODIFIED:20260224T122832Z
UID:10000253-1774800000-1774807200@vaddobygden.se
SUMMARY:Musikcafé med Melker Stendahl ”Landskap i toner” - Församlingsgården i Älmsta
DESCRIPTION:Musikcafé – Melker spelar musik och berättar om Hugo Alfvén\, Wilhelm Peterson-Berger och Melker Stendahl
URL:https://vaddobygden.se/event/musikcafe-med-melker-stendahl-landskap-i-toner-forsamlingsgarden-i-almsta/
LOCATION:Väddö Församling – Älmsta\, Sweden
CATEGORIES:Musik & Mat
GEO:59.9693325231;18.807598151558
END:VEVENT
END:VCALENDAR