BEGIN:VCALENDAR
VERSION:2.0
PRODID:-//Väddöbygden - ECPv6.15.20//NONSGML v1.0//EN
CALSCALE:GREGORIAN
METHOD:PUBLISH
X-ORIGINAL-URL:https://vaddobygden.se
X-WR-CALDESC:Händelser för Väddöbygden
REFRESH-INTERVAL;VALUE=DURATION:PT1H
X-Robots-Tag:noindex
X-PUBLISHED-TTL:PT1H
BEGIN:VTIMEZONE
TZID:Europe/Stockholm
BEGIN:DAYLIGHT
TZOFFSETFROM:+0100
TZOFFSETTO:+0200
TZNAME:CEST
DTSTART:20220327T010000
END:DAYLIGHT
BEGIN:STANDARD
TZOFFSETFROM:+0200
TZOFFSETTO:+0100
TZNAME:CET
DTSTART:20221030T010000
END:STANDARD
BEGIN:DAYLIGHT
TZOFFSETFROM:+0100
TZOFFSETTO:+0200
TZNAME:CEST
DTSTART:20230326T010000
END:DAYLIGHT
BEGIN:STANDARD
TZOFFSETFROM:+0200
TZOFFSETTO:+0100
TZNAME:CET
DTSTART:20231029T010000
END:STANDARD
BEGIN:DAYLIGHT
TZOFFSETFROM:+0100
TZOFFSETTO:+0200
TZNAME:CEST
DTSTART:20240331T010000
END:DAYLIGHT
BEGIN:STANDARD
TZOFFSETFROM:+0200
TZOFFSETTO:+0100
TZNAME:CET
DTSTART:20241027T010000
END:STANDARD
END:VTIMEZONE
BEGIN:VEVENT
DTSTART;TZID=Europe/Stockholm:20230826T200000
DTEND;TZID=Europe/Stockholm:20230826T230000
DTSTAMP:20260425T173120
CREATED:20230824T131448Z
LAST-MODIFIED:20230824T132842Z
UID:10000020-1693080000-1693090800@vaddobygden.se
SUMMARY:Nostalgikväll med DJ Clabbe och Rakt Över Disk på Bergby Gård
DESCRIPTION:NOSTALGIKVÄLL MED DJ ”CLABBE” CLAES AF GEIJERSTAM \nVi laddar för en galet härlig Disco-night som på 80-talets glada nattklubbskvällar här på Bergby Gård. Vem minns väl inte Rakt Över Disc med Clabbe? \nClabbe började DJ\,a 1968 direkt efter succén i Ola & Janglers och firar alltså 55 år som DJ! Sprang sen rakt in i ”Oppopoppa”\, Melodifestivalvinst med ”HäckandeSvalor” och var största radiostjärnan under hela 80-talet med oförglömliga ”Rakt Över Disc”Snacka om att det blir ”Fest med musiken du tyckte var bäst!” \nLegenden Clabbe\, detta kommer bli ett hejdundrande Party där du kan dansa dojjorna av dig hela kvällen \nMeny för kvällen – 3-rätters Nostalgimeny\n\n* Räkcocktail \n* Rostbiff med potatisgratäng\n \n* Rulltårta med persika & grädde\n\n \nMiddag 18:00 \nClabbe går på scenen 20:00\n \nVarmt välkomna till en hejdundrande skoj kväll!! \nBoka här: https://billetto.se/e/sommaravslutning-och-nostalgikvall-med-dj-clabbe-och-rakt-over-disk-biljetter-854772
URL:https://vaddobygden.se/event/nostalgikvall-med-dj-clabbe-och-rakt-over-disk-pa-bergby-gard/
LOCATION:Bergby Gård & Logi\, Bergby 1\,\, Hallstavik\, 763 94\, Sverige
CATEGORIES:Underhållning
GEO:60.058173283163;18.75132696734
X-APPLE-STRUCTURED-LOCATION;VALUE=URI;X-ADDRESS=Bergby Gård & Logi Bergby 1 Hallstavik 763 94 Sverige;X-APPLE-RADIUS=500;X-TITLE=Bergby 1\,:geo:18.75132696734,60.058173283163
END:VEVENT
BEGIN:VEVENT
DTSTART;TZID=Europe/Stockholm:20230826T100000
DTEND;TZID=Europe/Stockholm:20230826T140000
DTSTAMP:20260425T173120
CREATED:20230824T093135Z
LAST-MODIFIED:20230824T093406Z
UID:10000001-1693044000-1693058400@vaddobygden.se
SUMMARY:Roslagens Kanotmaraton 2023
DESCRIPTION:Lördagen den 26/8\, med start klockan 10 så kommer vi köra Roslagens Kanotmaraton. Vi kommer att ha start och mål i Älmsta och sträckorna kommer att bli ca 17 eller 34 km. Om man paddlar 34 km så kommer det att va en enklare urstigning vid 17 km och då kan man även byta besättning om man vill köra stafett. Man kommer att kunna följa loppet på många platser utmed banan . Paddlingen kommer mestadels att ske på lugna vatten och ingen följebåt finns. All paddling sker på eget ansvar. Anmälningsavgiften på minst 50 kr eller valfritt belopp går oavkortat in på Barncancerfonden konto\nQr koden syns här.\nAnmälan görs till\nrks.tavling@gmail.com\nVid frågor så kontakta mig\nCrille G
URL:https://vaddobygden.se/event/roslagens-kanotmaraton-2023/
LOCATION:Elmsta Park\, Brinkvägen\, Väddö\, 76431
GEO:59.973030141062;18.814479272775
X-APPLE-STRUCTURED-LOCATION;VALUE=URI;X-ADDRESS=Elmsta Park Brinkvägen Väddö 76431;X-APPLE-RADIUS=500;X-TITLE=Brinkvägen:geo:18.814479272775,59.973030141062
END:VEVENT
BEGIN:VEVENT
DTSTART;TZID=Europe/Stockholm:20230825T170000
DTEND;TZID=Europe/Stockholm:20230825T220000
DTSTAMP:20260425T173120
CREATED:20230824T091933Z
LAST-MODIFIED:20230824T091933Z
UID:10000005-1692982800-1693000800@vaddobygden.se
SUMMARY:Pubkväll med rockbulten 25/8 - Vischan på Kröns
DESCRIPTION:Stort till tack till alla glada gäster som kom till oss i fredags och till blue Lightning som bjöd på en magisk kväll Nu på fredag 25/8 gästas vi av Rockbulten igen\nSom kommer bjuda på en riktigt bra kväll!\n\n\nDet kommer självklart finnas möjlighet att dricka goda drinkar och äta från vår pubmeny under kvällens gång!! Pubkvällen håller på mellan 17.00-22.00 och musiken spelas ca 19.30-22.00!\n\n\nVår pubmeny innehåller två olika sorters plocktallrikar\, högrevsburgare\, Gambas m.m!! Köket har öppet till 20.00!\n\n\nVi rekommenderar dig som ska äta att boka bord. Det gör du lättast genom att skicka ett PM eller ringa till oss på 0176-510 41\nHoppas vi ses för detta vill ni inte missa!!
URL:https://vaddobygden.se/event/pubkvall-med-rockbulten-25-8-vischan-pa-krons/
LOCATION:Kröns Trädgårds café\, XRH8+MC Hammarby\, Väddö\, Väddö\, 76491\, Sverige
CATEGORIES:Underhållning
END:VEVENT
END:VCALENDAR