BEGIN:VCALENDAR
VERSION:2.0
PRODID:-//Väddöbygden - ECPv6.15.20//NONSGML v1.0//EN
CALSCALE:GREGORIAN
METHOD:PUBLISH
X-ORIGINAL-URL:https://vaddobygden.se
X-WR-CALDESC:Händelser för Väddöbygden
REFRESH-INTERVAL;VALUE=DURATION:PT1H
X-Robots-Tag:noindex
X-PUBLISHED-TTL:PT1H
BEGIN:VTIMEZONE
TZID:Europe/Stockholm
BEGIN:DAYLIGHT
TZOFFSETFROM:+0100
TZOFFSETTO:+0200
TZNAME:CEST
DTSTART:20240331T010000
END:DAYLIGHT
BEGIN:STANDARD
TZOFFSETFROM:+0200
TZOFFSETTO:+0100
TZNAME:CET
DTSTART:20241027T010000
END:STANDARD
BEGIN:DAYLIGHT
TZOFFSETFROM:+0100
TZOFFSETTO:+0200
TZNAME:CEST
DTSTART:20250330T010000
END:DAYLIGHT
BEGIN:STANDARD
TZOFFSETFROM:+0200
TZOFFSETTO:+0100
TZNAME:CET
DTSTART:20251026T010000
END:STANDARD
BEGIN:DAYLIGHT
TZOFFSETFROM:+0100
TZOFFSETTO:+0200
TZNAME:CEST
DTSTART:20260329T010000
END:DAYLIGHT
BEGIN:STANDARD
TZOFFSETFROM:+0200
TZOFFSETTO:+0100
TZNAME:CET
DTSTART:20261025T010000
END:STANDARD
END:VTIMEZONE
BEGIN:VEVENT
DTSTART;TZID=Europe/Stockholm:20250802T130000
DTEND;TZID=Europe/Stockholm:20250802T173000
DTSTAMP:20260424T164714
CREATED:20250714T115513Z
LAST-MODIFIED:20250714T123501Z
UID:10000237-1754139600-1754155800@vaddobygden.se
SUMMARY:Väddö Visfestival - Kista hembygdsgård \, Väddö
DESCRIPTION:Vi dukar upp för  Väddö Visfestival i år igen på härliga Kista hembygdsgård.\nScenen står inne i “Nya ladan” så vi kan helgardera oss och inte vara beroende av väderleken.\nI år är det en skön blandning av musiker och trubadurer som kommer att underhålla oss.\nFJK\, Tidens Brus\, Maja Heurling & Ola Sandström\, Christina Kjellsson och sist\, men inte minst vår egen sjungande konferencier; Tobbe Ljunglöf.\nBiljetter finns på Kulturbiljetter.se (fr.o.m. onsdag 16/7) eller köps i kassan vid ladan från 12:30 på festivaldagen\nBiljettpris 250 kr\, 200 kr för medlemmar i VMS\nUnder hela festivalen finns det fika från VäddöVillan och mat från “Vischan på Vift”.
URL:https://vaddobygden.se/event/vaddo-visfestival-kista-hembygdsgard-vaddo/
LOCATION:Kista Hembygdsgård\, Kistavägen\, 760 40 Väddö\, Sverige
CATEGORIES:Musik & Mat,Underhållning
GEO:59.959787926242;18.848260026853
X-APPLE-STRUCTURED-LOCATION;VALUE=URI;X-ADDRESS=Kista Hembygdsgård Kistavägen 760 40 Väddö Sverige;X-APPLE-RADIUS=500;X-TITLE=Kistavägen\, 760 40 Väddö:geo:18.848260026853,59.959787926242
END:VEVENT
BEGIN:VEVENT
DTSTART;TZID=Europe/Stockholm:20250730T190000
DTEND;TZID=Europe/Stockholm:20250730T200000
DTSTAMP:20260424T164714
CREATED:20250609T141953Z
LAST-MODIFIED:20250609T142659Z
UID:10000225-1753902000-1753905600@vaddobygden.se
SUMMARY:Roffen Engström - ateljékväll
DESCRIPTION:Roffen Engström Albert Engströms barnbarn spelar och sjunger egna och andras visor samt samtalar med publiken.\nTid: 19:00-20:00\nPlats: 150 kr \nBiljetter köps i museet eller förbokas telefon 0175 30890
URL:https://vaddobygden.se/event/roffen_engstrom/
LOCATION:Albert Engströms Atelje\, Engströms väg 11\,\, Grisslehamn\, 760 45\, Sweden
CATEGORIES:Kulturevenemang
END:VEVENT
BEGIN:VEVENT
DTSTART;TZID=Europe/Stockholm:20250727T110000
DTEND;TZID=Europe/Stockholm:20250727T170000
DTSTAMP:20260424T164714
CREATED:20250625T112050Z
LAST-MODIFIED:20250625T112050Z
UID:10000228-1753614000-1753635600@vaddobygden.se
SUMMARY:Grisslehamns Konstrunda
DESCRIPTION:Grisslehamns Konstrunda | 25/7 kl 13-16 Vernissage samlingsutställning Grisslehamns gamla brandstation\n26-27/7 kl 11-17 Konstnärers öppna ateljéer + samlingsutställning Grisslehamns gamla brandstation. \nFör ytterligare information: https://www.grisslehamnskonstrunda.se/
URL:https://vaddobygden.se/event/grisslehamns-konstrunda-3/
LOCATION:Väddö
CATEGORIES:Kulturevenemang
END:VEVENT
BEGIN:VEVENT
DTSTART;TZID=Europe/Stockholm:20250727T110000
DTEND;TZID=Europe/Stockholm:20250727T170000
DTSTAMP:20260424T164714
CREATED:20250514T104937Z
LAST-MODIFIED:20250514T104937Z
UID:10000218-1753614000-1753635600@vaddobygden.se
SUMMARY:Ateljerundan 2025 - Utställningar över hela Björkö
DESCRIPTION:Ateljerundan Björkö – är en återkommande sommaraktivitet där traktens alla konstnärer\, hantverkare med flera bjuder in för att visa sina alster. Aktiviteten pågår från fredag till söndag\, då närmare 40 utställare finns att besöka. Många brukar häpna över mångfalden som visas upp här finns en konstnär i många stugor. \nFredag kl 15.00 – 18.00\nLördag kl 11.00 – 17.00\nSöndag kl 11.00 – 17.00
URL:https://vaddobygden.se/event/ateljerundan-2025-utstallningar-over-hela-bjorko/
LOCATION:Björkö hembygdsgård\, V26M+7W Skeninge\, Sverige
CATEGORIES:Kulturevenemang
GEO:59.860487503381;19.034381187216
X-APPLE-STRUCTURED-LOCATION;VALUE=URI;X-ADDRESS=Björkö hembygdsgård V26M+7W Skeninge Sverige;X-APPLE-RADIUS=500;X-TITLE=V26M+7W Skeninge:geo:19.034381187216,59.860487503381
END:VEVENT
BEGIN:VEVENT
DTSTART;TZID=Europe/Stockholm:20250726T110000
DTEND;TZID=Europe/Stockholm:20250726T170000
DTSTAMP:20260424T164714
CREATED:20250625T110636Z
LAST-MODIFIED:20250625T111950Z
UID:10000226-1753527600-1753549200@vaddobygden.se
SUMMARY:Grisslehamns Konstrunda
DESCRIPTION:Grisslehamns Konstrunda | 25/7 kl 13-16 Vernissage samlingsutställning Grisslehamns gamla brandstation\n26-27/7 kl 11-17 Konstnärers öppna ateljéer + samlingsutställning Grisslehamns gamla brandstation. \nFör ytterligare information: https://www.grisslehamnskonstrunda.se/
URL:https://vaddobygden.se/event/grisslehamns-konstrunda/
LOCATION:Väddö
CATEGORIES:Kulturevenemang
END:VEVENT
BEGIN:VEVENT
DTSTART;TZID=Europe/Stockholm:20250726T110000
DTEND;TZID=Europe/Stockholm:20250726T170000
DTSTAMP:20260424T164714
CREATED:20240430T094934Z
LAST-MODIFIED:20250514T105332Z
UID:10000165-1753527600-1753549200@vaddobygden.se
SUMMARY:Ateljerundan 2025 - Utställningar över hela Björkö
DESCRIPTION:Ateljerundan Björkö – är en återkommande sommaraktivitet där traktens alla konstnärer\, hantverkare med flera bjuder in för att visa sina alster. Aktiviteten pågår från fredag till söndag\, då närmare 40 utställare finns att besöka. Många brukar häpna över mångfalden som visas upp här finns en konstnär i många stugor. \nFredag kl 15.00 – 18.00\nLördag kl 11.00 – 17.00\nSöndag kl 11.00 – 17.00
URL:https://vaddobygden.se/event/ateljerundan-2024-utstallningar-over-hela-bjorko/
LOCATION:Björkö hembygdsgård\, V26M+7W Skeninge\, Sverige
CATEGORIES:Kulturevenemang
GEO:59.860487503381;19.034381187216
X-APPLE-STRUCTURED-LOCATION;VALUE=URI;X-ADDRESS=Björkö hembygdsgård V26M+7W Skeninge Sverige;X-APPLE-RADIUS=500;X-TITLE=V26M+7W Skeninge:geo:19.034381187216,59.860487503381
END:VEVENT
BEGIN:VEVENT
DTSTART;TZID=Europe/Stockholm:20250725T150000
DTEND;TZID=Europe/Stockholm:20250725T180000
DTSTAMP:20260424T164714
CREATED:20240430T095258Z
LAST-MODIFIED:20250514T104612Z
UID:10000166-1753455600-1753466400@vaddobygden.se
SUMMARY:Ateljerundan 2025 - Utställningar över hela Björkö
DESCRIPTION:Ateljerundan Björkö – är en återkommande sommaraktivitet där traktens alla konstnärer\, hantverkare med flera bjuder in för att visa sina alster. Aktiviteten pågår från fredag till söndag\, då närmare 40 utställare finns att besöka. Många brukar häpna över mångfalden som visas upp här finns en konstnär i många stugor. \nFredag kl 15.00 – 18.00\nLördag kl 11.00 – 17.00\nSöndag kl 11.00 – 17.00
URL:https://vaddobygden.se/event/ateljerundan-2024-utstallningar-over-hela-bjorko-2/
LOCATION:Björkö hembygdsgård\, V26M+7W Skeninge\, Sverige
CATEGORIES:Kulturevenemang
GEO:59.860487503381;19.034381187216
X-APPLE-STRUCTURED-LOCATION;VALUE=URI;X-ADDRESS=Björkö hembygdsgård V26M+7W Skeninge Sverige;X-APPLE-RADIUS=500;X-TITLE=V26M+7W Skeninge:geo:19.034381187216,59.860487503381
END:VEVENT
BEGIN:VEVENT
DTSTART;TZID=Europe/Stockholm:20250725T130000
DTEND;TZID=Europe/Stockholm:20250725T160000
DTSTAMP:20260424T164714
CREATED:20250625T110919Z
LAST-MODIFIED:20250625T111144Z
UID:10000227-1753448400-1753459200@vaddobygden.se
SUMMARY:Grisslehamns Konstrunda
DESCRIPTION:Grisslehamns Konstrunda | 25/7 kl 13-16 Vernissage samlingsutställning Grisslehamns gamla brandstation\n26-27/7 kl 11-17 Konstnärers öppna ateljéer + samlingsutställning Grisslehamns gamla brandstation. \nFör ytterligare information: https://www.grisslehamnskonstrunda.se/
URL:https://vaddobygden.se/event/grisslehamns-konstrunda-2/
LOCATION:Väddö
CATEGORIES:Kulturevenemang
END:VEVENT
BEGIN:VEVENT
DTSTART;TZID=Europe/Stockholm:20250725T100000
DTEND;TZID=Europe/Stockholm:20250726T010000
DTSTAMP:20260424T164714
CREATED:20240420T104552Z
LAST-MODIFIED:20250423T115129Z
UID:10000150-1753437600-1753491600@vaddobygden.se
SUMMARY:Elmsta Natta
DESCRIPTION:Elmsta Natta – Väddös folkfest bestående av knallar\, tivoli\, god mat\, dragkamp\, rundturståg\, helikopterflygning\, hemvändarkväll och mycket mer i vacker skärgårdsmiljö. Väddös folkfest avslutas med nonstop dans till Streaplers och Per Håkans på Vikingalunden som öppnar klockan 19:30 till 01:00
URL:https://vaddobygden.se/event/elmsta-natta/
LOCATION:Elmsta Park\, Brinkvägen\, Väddö\, 76431
CATEGORIES:Evenemang
GEO:59.973030141062;18.814479272775
X-APPLE-STRUCTURED-LOCATION;VALUE=URI;X-ADDRESS=Elmsta Park Brinkvägen Väddö 76431;X-APPLE-RADIUS=500;X-TITLE=Brinkvägen:geo:18.814479272775,59.973030141062
END:VEVENT
BEGIN:VEVENT
DTSTART;TZID=Europe/Stockholm:20250723T190000
DTEND;TZID=Europe/Stockholm:20250723T200000
DTSTAMP:20260424T164714
CREATED:20250609T141513Z
LAST-MODIFIED:20250609T141513Z
UID:10000224-1753297200-1753300800@vaddobygden.se
SUMMARY:Roffen Engström - Hamnorkester från Uppsala
DESCRIPTION:Roffen Engström har tillsammans med unga och begåvade musiker bildat Uppsala Hamnorkester.\nTid: 19:00-20:00\nKostnad: 150 kr \nBiljetter köps i museet eller förbokas telefon 0175 30890
URL:https://vaddobygden.se/event/roffen-engstrom-hamnorkester-fran-uppsala/
LOCATION:Albert Engströms Atelje\, Engströms väg 11\,\, Grisslehamn\, 760 45\, Sweden
CATEGORIES:Kulturevenemang
END:VEVENT
BEGIN:VEVENT
DTSTART;TZID=Europe/Stockholm:20250720T100000
DTEND;TZID=Europe/Stockholm:20250720T160000
DTSTAMP:20260424T164714
CREATED:20250313T112039Z
LAST-MODIFIED:20250313T112039Z
UID:10000211-1753005600-1753027200@vaddobygden.se
SUMMARY:Beckbyxans dag  - ÄLMSTA / KAPLANSBACKEN
DESCRIPTION:  \nRoslagens Sjöfartsmuseum – Beckbyxans dag \nBeckbyxans dag är en tradition sedan 1984\, denna dag fylls Kaplansbacken av säväl lokala och utsocknes besökare\, här bjuds på underhållning samt denna dag äts det mycket strömming\, korv\, fika och sist men inte minst glass i stora lass. Många utställningar denna dag i Sjöfartsmuseets historiska lära.
URL:https://vaddobygden.se/event/beckbyxans-dag-almsta-kaplansbacken/
LOCATION:Roslagens Sjöfartsmuseum / Kaplansbacken\, Gåsviksvägen 47\, Sverige
CATEGORIES:Evenemang
GEO:59.96403847493;18.815122171031
X-APPLE-STRUCTURED-LOCATION;VALUE=URI;X-ADDRESS=Roslagens Sjöfartsmuseum / Kaplansbacken Gåsviksvägen 47 Sverige;X-APPLE-RADIUS=500;X-TITLE=Gåsviksvägen 47:geo:18.815122171031,59.96403847493
END:VEVENT
BEGIN:VEVENT
DTSTART;TZID=Europe/Stockholm:20250716T190000
DTEND;TZID=Europe/Stockholm:20250716T200000
DTSTAMP:20260424T164714
CREATED:20250609T141113Z
LAST-MODIFIED:20250609T141113Z
UID:10000223-1752692400-1752696000@vaddobygden.se
SUMMARY:Petter Nylund - Från Grisselhamn till "Lort-Sverige"
DESCRIPTION:Petter Nylund berättar om Ludde Nordströms Grisslehamnsår 1906-07 som gäst hos Albert Engström och Byholma-bönderna och med husrum i ett torp vid havet i Byholma.\nTid: 19:00-20:00\nKostnad: 150 kr \nBiljetter köps i museet eller förbokas telefon 0175 30890
URL:https://vaddobygden.se/event/petter-nylund-fran-grisselhamn-till-lort-sverige/
LOCATION:Albert Engströms Atelje\, Engströms väg 11\,\, Grisslehamn\, 760 45\, Sweden
CATEGORIES:Kulturevenemang
END:VEVENT
BEGIN:VEVENT
DTSTART;TZID=Europe/Stockholm:20250712T100000
DTEND;TZID=Europe/Stockholm:20250712T160000
DTSTAMP:20260424T164714
CREATED:20250625T122506Z
LAST-MODIFIED:20250625T122506Z
UID:10000236-1752314400-1752336000@vaddobygden.se
SUMMARY:Grisslehamnsdagen
DESCRIPTION:Grisslehamnsdagen -Fest och marknadsdag i Grissslehamn. Parkering på fotbollsplanen. Minitåg runt centrum. Knallar på Hamnplan\, strömingsgrillning\, fika och våfflor. Prova på segling\, pumptrackbanan\, rebusjakt och fiskdamm med mera. Barnaktiviteter i Kapellet\, Engströmsgården fri entré. Underhållning av Magnus Lundén. Dagen avslutas med Hattparad och Kyparrace.
URL:https://vaddobygden.se/event/grisslehamnsdagen-2/
LOCATION:Väddö
CATEGORIES:Marknader
END:VEVENT
BEGIN:VEVENT
DTSTART;TZID=Europe/Stockholm:20250709T190000
DTEND;TZID=Europe/Stockholm:20250709T200000
DTSTAMP:20260424T164714
CREATED:20250609T140655Z
LAST-MODIFIED:20250609T140655Z
UID:10000222-1752087600-1752091200@vaddobygden.se
SUMMARY:Jimmy Ginsby tolkar Dan Andersson - Albert Engströms Atelje
DESCRIPTION:Jimmy Ginsby men denna gång i sällskap med Dan Andersson. Vi får berättelsen om Dans korta liv\, varvad med hans sånger och dikter.\nTid: 19:00-20:00\nKostnad: 150 kr \nBiljetter köps i museet eller förbokas telefon 0175 30890
URL:https://vaddobygden.se/event/jimmy-ginsby-tolkar-dan-andersson-albert-engstroms-atelje/
LOCATION:Albert Engströms Atelje\, Engströms väg 11\,\, Grisslehamn\, 760 45\, Sweden
CATEGORIES:Kulturevenemang
END:VEVENT
BEGIN:VEVENT
DTSTART;TZID=Europe/Stockholm:20250705T120000
DTEND;TZID=Europe/Stockholm:20250705T150000
DTSTAMP:20260424T164714
CREATED:20250609T140203Z
LAST-MODIFIED:20250609T140238Z
UID:10000221-1751716800-1751727600@vaddobygden.se
SUMMARY:Engströmdagen - Engströmpriser till Erik Blix och Keisha von Arnold-Tengman
DESCRIPTION:Engströmdagen – Utdelning av Albert Engströmpriset 2025 som går till Erik Blix för framstående insatser under humorns fana. Keisha von Arnold-Tengman får ungdomspriset för sin enastående förmåga inom scenisk dans och koreografi.\nTid: 12:00-15:00\nKostnad: Kostnadsfri
URL:https://vaddobygden.se/event/engstromdagen-engstrompriser-till-erik-blix-och-keisha-von-arnold-tengman/
LOCATION:Albert Engströms Museum\, Engströms väg\, Grisslehamn\, 760 45\, Sweden
CATEGORIES:Kulturevenemang
END:VEVENT
BEGIN:VEVENT
DTSTART;TZID=Europe/Stockholm:20250705T110000
DTEND;TZID=Europe/Stockholm:20250705T150000
DTSTAMP:20260424T164714
CREATED:20250313T110904Z
LAST-MODIFIED:20250313T110904Z
UID:10000209-1751713200-1751727600@vaddobygden.se
SUMMARY:Singö dagen - Singö
DESCRIPTION:Singö dagen – Slöjdare från Skärgårdsslöjden\, Hantverkare av olika slag\, musikanter\, fiskdamm\, lotterier\, försäljning av fika med hembakt\, korv\, dricka och glass. Singö skolas loppis öppen.
URL:https://vaddobygden.se/event/singo-dagen-singo/
LOCATION:Singö kyrka / kyrkbacke\, 5P6V+H2 Söderby\, 764 57\, Sverige
CATEGORIES:Evenemang
GEO:60.161503628234;18.742436091683
X-APPLE-STRUCTURED-LOCATION;VALUE=URI;X-ADDRESS=Singö kyrka / kyrkbacke 5P6V+H2 Söderby 764 57 Sverige;X-APPLE-RADIUS=500;X-TITLE=5P6V+H2 Söderby:geo:18.742436091683,60.161503628234
END:VEVENT
BEGIN:VEVENT
DTSTART;TZID=Europe/Stockholm:20250702T190000
DTEND;TZID=Europe/Stockholm:20250702T200000
DTSTAMP:20260424T164714
CREATED:20250609T134712Z
LAST-MODIFIED:20250609T135144Z
UID:10000220-1751482800-1751486400@vaddobygden.se
SUMMARY:Fredrik Lundin berättar om en Backstugepojke - Albert Engström Atelje Grisslehamn
DESCRIPTION:Fredrik Lundin Rospiggen berättar om Anders Petter Nordin\, född 1843\, som är en enkel backstugepojke från Väddö. Anders Petters levnad åskådliggör de stora förändringar och växlingar som pågick under 1800-talets senare hälft. \nTid: 19.00-20.00\nPris: 150 Kr\nBiljetter köps i museet eller förbokas telefon 0175 30890
URL:https://vaddobygden.se/event/fredrik-lundin-berattar-om-en-backstugepojke-albert-engstrom-atelje-grisslehamn/
LOCATION:Albert Engströms Atelje\, Engströms väg 11\,\, Grisslehamn\, 760 45\, Sweden
CATEGORIES:Kulturevenemang
END:VEVENT
BEGIN:VEVENT
DTSTART;TZID=Europe/Stockholm:20250630T170000
DTEND;TZID=Europe/Stockholm:20250728T180000
DTSTAMP:20260424T164714
CREATED:20250625T120848Z
LAST-MODIFIED:20250625T120848Z
UID:10000234-1751302800-1753725600@vaddobygden.se
SUMMARY:Fotbollsträning 10-15 år
DESCRIPTION:Fotbollsträning varje månad under juli månad kl 17.00-18.00. Medlemmar gratis. Engångsavgift 100 kr – men då gäller ej försäkringar och andra medlemsförmåner. Medlemsavgift 200 kr. Anmälan på http://www.grisslehamnssportklubb.se
URL:https://vaddobygden.se/event/fotbollstraning-10-15-ar/
LOCATION:Grisslehamns Sportklubb / dansbana\, Medborgarvägen 6\, 764 56 Grisslehamn\, Grisslehamn\, Sverige
CATEGORIES:Sport & Motion
GEO:60.097481416338;18.803752855499
X-APPLE-STRUCTURED-LOCATION;VALUE=URI;X-ADDRESS=Grisslehamns Sportklubb / dansbana Medborgarvägen 6 764 56 Grisslehamn Grisslehamn Sverige;X-APPLE-RADIUS=500;X-TITLE=Medborgarvägen 6\, 764 56 Grisslehamn:geo:18.803752855499,60.097481416338
END:VEVENT
BEGIN:VEVENT
DTSTART;TZID=Europe/Stockholm:20250630T160000
DTEND;TZID=Europe/Stockholm:20250728T170000
DTSTAMP:20260424T164714
CREATED:20250625T120439Z
LAST-MODIFIED:20250625T120439Z
UID:10000233-1751299200-1753722000@vaddobygden.se
SUMMARY:Fotbollsskola barn 10-15 år
DESCRIPTION:Fotbollsskola varje månad under juli månad kl 17.00-19.00. Medlemmar gratis. Engångsavgift 100 kr – men då gäller ej försäkringar och andra medlemsförmåner. Medlemsavgift 200 kr. Anmälan på http://www.grisslehamnssportklubb.se
URL:https://vaddobygden.se/event/fotbollsskola-barn-10-15-ar/
LOCATION:Grisslehamns Sportklubb / dansbana\, Medborgarvägen 6\, 764 56 Grisslehamn\, Grisslehamn\, Sverige
CATEGORIES:Sport & Motion
GEO:60.097481416338;18.803752855499
X-APPLE-STRUCTURED-LOCATION;VALUE=URI;X-ADDRESS=Grisslehamns Sportklubb / dansbana Medborgarvägen 6 764 56 Grisslehamn Grisslehamn Sverige;X-APPLE-RADIUS=500;X-TITLE=Medborgarvägen 6\, 764 56 Grisslehamn:geo:18.803752855499,60.097481416338
END:VEVENT
BEGIN:VEVENT
DTSTART;TZID=Europe/Stockholm:20250630T160000
DTEND;TZID=Europe/Stockholm:20250728T170000
DTSTAMP:20260424T164714
CREATED:20250625T120258Z
LAST-MODIFIED:20250625T120258Z
UID:10000232-1751299200-1753722000@vaddobygden.se
SUMMARY:Fotbollsskola barn 6-9 år
DESCRIPTION:Fotbollsskola varje månad under juli månad kl 16.00-17.00. Medlemmar gratis. Engångsavgift 100 kr – men då gäller ej försäkringar och andra medlemsförmåner. Medlemsavgift 200 kr. Anmälan på http://www.grisslehamnssportklubb.se
URL:https://vaddobygden.se/event/fotbollsskola-barn-6-9-ar/
LOCATION:Grisslehamns Sportklubb / dansbana\, Medborgarvägen 6\, 764 56 Grisslehamn\, Grisslehamn\, Sverige
CATEGORIES:Sport & Motion
GEO:60.097481416338;18.803752855499
X-APPLE-STRUCTURED-LOCATION;VALUE=URI;X-ADDRESS=Grisslehamns Sportklubb / dansbana Medborgarvägen 6 764 56 Grisslehamn Grisslehamn Sverige;X-APPLE-RADIUS=500;X-TITLE=Medborgarvägen 6\, 764 56 Grisslehamn:geo:18.803752855499,60.097481416338
END:VEVENT
BEGIN:VEVENT
DTSTART;TZID=Europe/Stockholm:20250630T100000
DTEND;TZID=Europe/Stockholm:20250731T110000
DTSTAMP:20260424T164714
CREATED:20250625T121756Z
LAST-MODIFIED:20250625T121756Z
UID:10000235-1751277600-1753959600@vaddobygden.se
SUMMARY:Sommargympa på dansbanan
DESCRIPTION:Sommargympa på Dansbanan i Grisslehamn kl 10.00-11.00 nästan varje dag under tiden 30 juni till 31 juli. Sommarkort för hela sommaren 400 kr (då blir du också medlem och är försäkrad och får ta del av medlemsförmåner som gratisresa för 4 personer på Eckerölinjen – hur många gånger du vill fram till 31 december. Engångsavgift 100 kr (utan försäkring och förmåner). Anmälan på hemsidan http://www.grisslehamnssportklubb.se Där kan du även se schemat eventuellt kan det komma till flera pass.
URL:https://vaddobygden.se/event/sommargympa-pa-dansbanan/
LOCATION:Grisslehamns Sportklubb / dansbana\, Medborgarvägen 6\, 764 56 Grisslehamn\, Grisslehamn\, Sverige
CATEGORIES:Sport & Motion
GEO:60.097481416338;18.803752855499
X-APPLE-STRUCTURED-LOCATION;VALUE=URI;X-ADDRESS=Grisslehamns Sportklubb / dansbana Medborgarvägen 6 764 56 Grisslehamn Grisslehamn Sverige;X-APPLE-RADIUS=500;X-TITLE=Medborgarvägen 6\, 764 56 Grisslehamn:geo:18.803752855499,60.097481416338
END:VEVENT
BEGIN:VEVENT
DTSTART;TZID=Europe/Stockholm:20250629T130000
DTEND;TZID=Europe/Stockholm:20250629T160000
DTSTAMP:20260424T164714
CREATED:20250313T110237Z
LAST-MODIFIED:20250313T110237Z
UID:10000208-1751202000-1751212800@vaddobygden.se
SUMMARY:Sommarfest - SÖDERBY-KARL / ERIKSKULLE
DESCRIPTION:Sommarfest på Erikskulle är en folkfest som firats sedan 1919. Denna dag vaknar kullen i Söderby-Karl till liv. Underhållning\, lotterier\, forntolva\, femkamp\, servering. Aktiviteter i och runt stugorna.
URL:https://vaddobygden.se/event/sommarfest-soderby-karl-erikskulle/
LOCATION:Erikskulle Hembygdsgård\, VPR6+7M Vik\, Sverige
CATEGORIES:Evenemang
GEO:59.890729449811;18.711595582673
X-APPLE-STRUCTURED-LOCATION;VALUE=URI;X-ADDRESS=Erikskulle Hembygdsgård VPR6+7M Vik Sverige;X-APPLE-RADIUS=500;X-TITLE=VPR6+7M Vik:geo:18.711595582673,59.890729449811
END:VEVENT
BEGIN:VEVENT
DTSTART;TZID=Europe/Stockholm:20250628T120000
DTEND;TZID=Europe/Stockholm:20250628T170000
DTSTAMP:20260424T164714
CREATED:20250512T115456Z
LAST-MODIFIED:20250512T115456Z
UID:10000217-1751112000-1751130000@vaddobygden.se
SUMMARY:Väddö spelmansstämma - Kista hembygdsgård \, Väddö
DESCRIPTION:Väddö spelmansstämma – Årets huvudartister är Ale och Anna Möller!\nDärutöver allspel\, buskspel\, grupper som spelar i ladan och dans. Visstuga Servering
URL:https://vaddobygden.se/event/vaddo-spelmansstamma-kista-hembygdsgard-vaddo-2/
LOCATION:Kista Hembygdsgård\, Kistavägen\, 760 40 Väddö\, Sverige
CATEGORIES:Musik & Mat,Underhållning
GEO:59.959787926242;18.848260026853
X-APPLE-STRUCTURED-LOCATION;VALUE=URI;X-ADDRESS=Kista Hembygdsgård Kistavägen 760 40 Väddö Sverige;X-APPLE-RADIUS=500;X-TITLE=Kistavägen\, 760 40 Väddö:geo:18.848260026853,59.959787926242
END:VEVENT
BEGIN:VEVENT
DTSTART;TZID=Europe/Stockholm:20250628T100000
DTEND;TZID=Europe/Stockholm:20250628T170000
DTSTAMP:20260424T164714
CREATED:20250625T112936Z
LAST-MODIFIED:20250625T113129Z
UID:10000229-1751104800-1751130000@vaddobygden.se
SUMMARY:Kom och fira med oss GSK 90år | Grisslehamns Idrottspark
DESCRIPTION:Grisslehamns Sportklubb fyller 90 år och det ska vi fira med aktiviteter\, Grisslehamnslöpet\, show och underhållning. Serveringen har öppet från kl 10 med fika\, glass\, korv och våfflor. På eftermiddagen blir det barn och familjeshow och melodiquiz med Peter Rylander underhållning med Steffan Klingsspor. Bengt Gustavsson berättar historen om GSK 90år. Utställning och bokförsäljning kring 90 års jubileet. Kl 16 blir det fanfar med snittar och bubbel (alkoholfri).
URL:https://vaddobygden.se/event/kom-och-fira-med-oss-gsk-90ar-grisslehamns-idrottspark/
LOCATION:Väddö
CATEGORIES:Sport & Motion
END:VEVENT
BEGIN:VEVENT
DTSTART;TZID=Europe/Stockholm:20250623T133000
DTEND;TZID=Europe/Stockholm:20250728T170000
DTSTAMP:20260424T164714
CREATED:20250625T114137Z
LAST-MODIFIED:20250625T115701Z
UID:10000231-1750685400-1753722000@vaddobygden.se
SUMMARY:Gymnastikskola för barn 10-14 år
DESCRIPTION:Gymnastikskola för barn 10-14 år\, lek\, voltträning och häftiga redskapsbanor. Kostnad 500 kr för medlemmar övriga 700 kr. Anmälan på http://www.grisslehamnssportklubb.se
URL:https://vaddobygden.se/event/gymnastikskola-for-barn-10-14-ar-2/
LOCATION:Grisslehamns Sportklubb / dansbana\, Medborgarvägen 6\, 764 56 Grisslehamn\, Grisslehamn\, Sverige
CATEGORIES:Sport & Motion
GEO:60.097481416338;18.803752855499
X-APPLE-STRUCTURED-LOCATION;VALUE=URI;X-ADDRESS=Grisslehamns Sportklubb / dansbana Medborgarvägen 6 764 56 Grisslehamn Grisslehamn Sverige;X-APPLE-RADIUS=500;X-TITLE=Medborgarvägen 6\, 764 56 Grisslehamn:geo:18.803752855499,60.097481416338
END:VEVENT
BEGIN:VEVENT
DTSTART;TZID=Europe/Stockholm:20250623T083000
DTEND;TZID=Europe/Stockholm:20250725T130000
DTSTAMP:20260424T164714
CREATED:20250625T113700Z
LAST-MODIFIED:20250625T115350Z
UID:10000230-1750667400-1753448400@vaddobygden.se
SUMMARY:Gymnastikskola för barn 6-9 år
DESCRIPTION:Gymnastikskola för barn 6-9 år\, lek\, voltträning och häftiga redskapsbanor. Kostnad 500 kr för medlemmar övriga 700 kr. Anmälan på http://www.grisslehamnssportklubb.se
URL:https://vaddobygden.se/event/gymnastikskola-for-barn-6-9-ar/
LOCATION:Grisslehamns Sportklubb / dansbana\, Medborgarvägen 6\, 764 56 Grisslehamn\, Grisslehamn\, Sverige
CATEGORIES:Sport & Motion
GEO:60.097481416338;18.803752855499
X-APPLE-STRUCTURED-LOCATION;VALUE=URI;X-ADDRESS=Grisslehamns Sportklubb / dansbana Medborgarvägen 6 764 56 Grisslehamn Grisslehamn Sverige;X-APPLE-RADIUS=500;X-TITLE=Medborgarvägen 6\, 764 56 Grisslehamn:geo:18.803752855499,60.097481416338
END:VEVENT
BEGIN:VEVENT
DTSTART;TZID=Europe/Stockholm:20250620T150000
DTEND;TZID=Europe/Stockholm:20250620T170000
DTSTAMP:20260424T164714
CREATED:20240425T102336Z
LAST-MODIFIED:20250317T123613Z
UID:10000151-1750431600-1750438800@vaddobygden.se
SUMMARY:Midsommarfirande - Arholma
DESCRIPTION:Midsommarfirande på Arholma fanns det enligt uppgift redan i början av 1900-talet en midsommarstång med ungefär samma utseende som idag. Det var den ogifta ungdomens uppgift att göra den i ordning. Det var 3 veckors kvällsarbete. \nDen gamla midsommarstången restes vid Kvarnberget där Arholma kyrka nu står\, på den s.k. Kägelbacken. När kyrkan byggdes 1928 upphörde seden med midsommarstång. 1947 föreslog en äldre ö-bo Simes-Wille\, att ön åter skulle ha sin gamla stång. Den placerades nu vid ångbåtsbryggan och gjordes högre än den gamla men för övrigt likadan.
URL:https://vaddobygden.se/event/midsommarfirande-arholma/
LOCATION:Arholma Handel\, Sweden
CATEGORIES:Evenemang
GEO:59.851228855896;19.108077522636
END:VEVENT
BEGIN:VEVENT
DTSTART;TZID=Europe/Stockholm:20250620T130000
DTEND;TZID=Europe/Stockholm:20250620T160000
DTSTAMP:20260424T164714
CREATED:20250609T132101Z
LAST-MODIFIED:20250609T132127Z
UID:10000219-1750424400-1750435200@vaddobygden.se
SUMMARY:Midsommar på Kista hembygdsgård - Kista hembygdsgård \, Väddö
DESCRIPTION:Fira midsommar på Kista hembygdsgård\, Väddö – Vi börjar vid 13 att klä den lövade stången med blomster och reser den ca 13:20. Dans\, musik och lekar runt stången. Vi kör ca 1\,5 timme\, med paus mitt på. Det finns även ponnyridning\, tombola\, fiskdamm\, fika\, korv och glass.
URL:https://vaddobygden.se/event/fira-midsommar-pa-kista-hembygdsgard-kista-hembygdsgard-vaddo/
LOCATION:Kista Hembygdsgård\, Kistavägen\, 760 40 Väddö\, Sverige
CATEGORIES:Musik & Mat
GEO:59.959787926242;18.848260026853
X-APPLE-STRUCTURED-LOCATION;VALUE=URI;X-ADDRESS=Kista Hembygdsgård Kistavägen 760 40 Väddö Sverige;X-APPLE-RADIUS=500;X-TITLE=Kistavägen\, 760 40 Väddö:geo:18.848260026853,59.959787926242
END:VEVENT
BEGIN:VEVENT
DTSTART;TZID=Europe/Stockholm:20250620T123000
DTEND;TZID=Europe/Stockholm:20250620T153000
DTSTAMP:20260424T164714
CREATED:20230824T123716Z
LAST-MODIFIED:20250313T102925Z
UID:10000007-1750422600-1750433400@vaddobygden.se
SUMMARY:Välkommen till midsommarfirande på Grisslehamns dansbana!
DESCRIPTION:Midsommarfirande – Vi firar traditionellt med start kl. 12.30 \nMusik och danslekar\, kaffe med dopp\, läsk\, korv med bröd\nLotterier\, pilkastning\, fiskdamm och lyckohjul \nMer information om vad som händer i Grisslehamn finns på vår\nhemsida www.grisslehamn.se eller ladda ner Roslagsappen \nHjärtligt välkomna!
URL:https://vaddobygden.se/event/valkommen-till-midsommarfirande-pa-grisslehamns-dansbana/
LOCATION:Grisslehamns Sportklubb / dansbana\, Medborgarvägen 6\, 764 56 Grisslehamn\, Grisslehamn\, Sverige
CATEGORIES:Evenemang
GEO:60.097481416338;18.803752855499
X-APPLE-STRUCTURED-LOCATION;VALUE=URI;X-ADDRESS=Grisslehamns Sportklubb / dansbana Medborgarvägen 6 764 56 Grisslehamn Grisslehamn Sverige;X-APPLE-RADIUS=500;X-TITLE=Medborgarvägen 6\, 764 56 Grisslehamn:geo:18.803752855499,60.097481416338
END:VEVENT
BEGIN:VEVENT
DTSTART;TZID=Europe/Stockholm:20250620T110000
DTEND;TZID=Europe/Stockholm:20250620T150000
DTSTAMP:20260424T164714
CREATED:20240531T124303Z
LAST-MODIFIED:20250319T100614Z
UID:10000176-1750417200-1750431600@vaddobygden.se
SUMMARY:Midsommarfest på Singö - Singö Kyrkbacke
DESCRIPTION:  \n \n\nMidsommarfest på Singö \n\n\nFredag 20 juni kl 11.00-15.00 \n\n\nKl 11.00 Stången smyckas av oss alla (ta gärna med blommor) \n\n\nKl 13.00 Dans runt midsommarstången \n\n\n\n\n\nPå plats finns:\nSpelemän och lekledare \n\n\nLotterier\, Partyhjul\, Fiskdamm\, Glass \n\n\nVarmkorv\, Kaffe\, läsk och gofika \n\n\nSingö skärgårdsslöjd säljer lokalt hantverk \n\n\nSingö skolas swishloppis & Öbibliotek öppet \n\n\nParkering på anvisad plats bredvid Singö kyrka \n\n\n\n\n\nÖverskottet går till bygdegårdsföreningens barn- och ungdomsverksamhet
URL:https://vaddobygden.se/event/midsommarfest-pa-singo-singo-kyrkbacke/
LOCATION:Singö kyrka / kyrkbacke\, 5P6V+H2 Söderby\, 764 57\, Sverige
CATEGORIES:Evenemang
GEO:60.161503628234;18.742436091683
X-APPLE-STRUCTURED-LOCATION;VALUE=URI;X-ADDRESS=Singö kyrka / kyrkbacke 5P6V+H2 Söderby 764 57 Sverige;X-APPLE-RADIUS=500;X-TITLE=5P6V+H2 Söderby:geo:18.742436091683,60.161503628234
END:VEVENT
END:VCALENDAR