BEGIN:VCALENDAR
VERSION:2.0
PRODID:-//Väddöbygden - ECPv6.15.20//NONSGML v1.0//EN
CALSCALE:GREGORIAN
METHOD:PUBLISH
X-WR-CALNAME:Väddöbygden
X-ORIGINAL-URL:https://vaddobygden.se
X-WR-CALDESC:Händelser för Väddöbygden
REFRESH-INTERVAL;VALUE=DURATION:PT1H
X-Robots-Tag:noindex
X-PUBLISHED-TTL:PT1H
BEGIN:VTIMEZONE
TZID:Europe/Stockholm
BEGIN:DAYLIGHT
TZOFFSETFROM:+0100
TZOFFSETTO:+0200
TZNAME:CEST
DTSTART:20250330T010000
END:DAYLIGHT
BEGIN:STANDARD
TZOFFSETFROM:+0200
TZOFFSETTO:+0100
TZNAME:CET
DTSTART:20251026T010000
END:STANDARD
BEGIN:DAYLIGHT
TZOFFSETFROM:+0100
TZOFFSETTO:+0200
TZNAME:CEST
DTSTART:20260329T010000
END:DAYLIGHT
BEGIN:STANDARD
TZOFFSETFROM:+0200
TZOFFSETTO:+0100
TZNAME:CET
DTSTART:20261025T010000
END:STANDARD
BEGIN:DAYLIGHT
TZOFFSETFROM:+0100
TZOFFSETTO:+0200
TZNAME:CEST
DTSTART:20270328T010000
END:DAYLIGHT
BEGIN:STANDARD
TZOFFSETFROM:+0200
TZOFFSETTO:+0100
TZNAME:CET
DTSTART:20271031T010000
END:STANDARD
END:VTIMEZONE
BEGIN:VEVENT
DTSTART;TZID=Europe/Stockholm:20260725T110000
DTEND;TZID=Europe/Stockholm:20260726T170000
DTSTAMP:20260424T085852
CREATED:20260318T140722Z
LAST-MODIFIED:20260318T140722Z
UID:10000267-1784977200-1785085200@vaddobygden.se
SUMMARY:Ateljérundan - BJÖRKÖ-ARHOLMA
DESCRIPTION:Ateljérundan\n24/7 kl. 15.00-18:00\n25/7 kl. 11.00-17:00\n26/7 kl. 11.00-17:00\nBJÖRKÖ-ARHOLMA / samling HEMBYGDSGÅRDEN \nVälkommen till vår artonde ateljerunda med utställningar\, försäljning och fika. Dessa dagar kommer konstnärer på Björkö bjuda in för att visa sina alster på utställningar över hela Björkö\, från Salnö i norr till Ängholmen i söder och med en samlingsutställning på Hembygdsgården.
URL:https://vaddobygden.se/event/ateljerundan-bjorko-arholma-2/
LOCATION:Björkö hembygdsgård\, V26M+7W Skeninge\, Sverige
CATEGORIES:Kulturevenemang
GEO:59.860487503381;19.034381187216
X-APPLE-STRUCTURED-LOCATION;VALUE=URI;X-ADDRESS=Björkö hembygdsgård V26M+7W Skeninge Sverige;X-APPLE-RADIUS=500;X-TITLE=V26M+7W Skeninge:geo:19.034381187216,59.860487503381
END:VEVENT
BEGIN:VEVENT
DTSTART;TZID=Europe/Stockholm:20260727T100000
DTEND;TZID=Europe/Stockholm:20260731T140000
DTSTAMP:20260424T085852
CREATED:20260318T141256Z
LAST-MODIFIED:20260318T141256Z
UID:10000268-1785146400-1785506400@vaddobygden.se
SUMMARY:Björköhänget - BJÖRKÖ / HEMBYGDSGÅRDEN
DESCRIPTION:Björköhänget\n27/7 – 31/7\nBJÖRKÖ / HEMBYGDSGÅRDEN \nFör tionde året i rad arrangerar kulturföreningar på Björkö ett häng för barn och unga. Årets tema kommer att vara ”Fred och demokrati”.
URL:https://vaddobygden.se/event/bjorkohanget-bjorko-hembygdsgarden/
LOCATION:Björkö hembygdsgård\, V26M+7W Skeninge\, Sverige
CATEGORIES:Aktivitet
GEO:59.860487503381;19.034381187216
X-APPLE-STRUCTURED-LOCATION;VALUE=URI;X-ADDRESS=Björkö hembygdsgård V26M+7W Skeninge Sverige;X-APPLE-RADIUS=500;X-TITLE=V26M+7W Skeninge:geo:19.034381187216,59.860487503381
END:VEVENT
BEGIN:VEVENT
DTSTART;TZID=Europe/Stockholm:20260731T100000
DTEND;TZID=Europe/Stockholm:20260731T190000
DTSTAMP:20260424T085852
CREATED:20260318T141550Z
LAST-MODIFIED:20260318T141550Z
UID:10000269-1785492000-1785524400@vaddobygden.se
SUMMARY:Elmsta Natta - ÄLMSTA / ELMSTA PARK
DESCRIPTION:Elmsta Natta\n31/7 kl. 10.00-19:00\nÄLMSTA / ELMSTA PARK \nVäddös folkfest bestående av knallar\, tivoli\, god mat\, dragkamp\, rundturståg\, hemvändarkväll och mycket mer i vacker skärgårdsmiljö. Väddös folkfest avslutas med nonstop dans till Titanix och Mats Larssonz på Vikingalunden som öppnar klockan 19:30.
URL:https://vaddobygden.se/event/elmsta-natta-almsta-elmsta-park/
LOCATION:Älmsta\, Väddö\, Sverige
CATEGORIES:Evenemang
GEO:59.973072593032;18.811836418337
END:VEVENT
BEGIN:VEVENT
DTSTART;TZID=Europe/Stockholm:20260808T143000
DTEND;TZID=Europe/Stockholm:20260808T163000
DTSTAMP:20260424T085852
CREATED:20260318T141907Z
LAST-MODIFIED:20260318T141907Z
UID:10000270-1786199400-1786206600@vaddobygden.se
SUMMARY:Älmstadalen - ÄLMSTA / ELMSTA PARK
DESCRIPTION:Älmstadalen\n8/8 kl. 14:30-16:30\nÄLMSTA / ELMSTA PARK \nGruppledarna för partier som sitter i fullmäktige kommer vara på plats\, här ni kan ställa frågor inför kommande val.
URL:https://vaddobygden.se/event/almstadalen-almsta-elmsta-park/
LOCATION:Elmsta Park\, Brinkvägen\, Väddö\, 76431
CATEGORIES:Evenemang
GEO:59.973030141062;18.814479272775
X-APPLE-STRUCTURED-LOCATION;VALUE=URI;X-ADDRESS=Elmsta Park Brinkvägen Väddö 76431;X-APPLE-RADIUS=500;X-TITLE=Brinkvägen:geo:18.814479272775,59.973030141062
END:VEVENT
BEGIN:VEVENT
DTSTART;TZID=Europe/Stockholm:20260815T130000
DTEND;TZID=Europe/Stockholm:20260815T170000
DTSTAMP:20260424T085852
CREATED:20260318T142225Z
LAST-MODIFIED:20260318T142313Z
UID:10000271-1786798800-1786813200@vaddobygden.se
SUMMARY:Väddö Visfestival - KISTA HEMBYGDSGÅRD
DESCRIPTION:Väddö Visfestival\n15/8 kl. 13:00-17:00\nKISTA HEMBYGDSGÅRD \nDen stora ladan kommer för tredje året i rad att fyllas av högklassig vismusik! En härlig blandning av nyskrivet\, nyligen tonsatt\, traditionellt\, roligt\, satiriskt\, allvarsamt med mera. Den berättande visan i sin bästa form! Garanterat skickliga visartister på scenen både kända och mindre kända. I år kommer bland andra Jenny Almsenius\, Gunnar Källström och Miranda ”Murre”Eriksson. Sjungande presentatör är Tobbe Ljunglöf.
URL:https://vaddobygden.se/event/vaddo-visfestival-kista-hembygdsgard/
LOCATION:Kista Hembygdsgård\, Kistavägen\, 760 40 Väddö\, Sverige
CATEGORIES:Kulturevenemang
GEO:59.959787926242;18.848260026853
X-APPLE-STRUCTURED-LOCATION;VALUE=URI;X-ADDRESS=Kista Hembygdsgård Kistavägen 760 40 Väddö Sverige;X-APPLE-RADIUS=500;X-TITLE=Kistavägen\, 760 40 Väddö:geo:18.848260026853,59.959787926242
END:VEVENT
END:VCALENDAR