BEGIN:VCALENDAR
VERSION:2.0
PRODID:-//Väddöbygden - ECPv6.15.20//NONSGML v1.0//EN
CALSCALE:GREGORIAN
METHOD:PUBLISH
X-ORIGINAL-URL:https://vaddobygden.se
X-WR-CALDESC:Händelser för Väddöbygden
REFRESH-INTERVAL;VALUE=DURATION:PT1H
X-Robots-Tag:noindex
X-PUBLISHED-TTL:PT1H
BEGIN:VTIMEZONE
TZID:Europe/Stockholm
BEGIN:DAYLIGHT
TZOFFSETFROM:+0100
TZOFFSETTO:+0200
TZNAME:CEST
DTSTART:20250330T010000
END:DAYLIGHT
BEGIN:STANDARD
TZOFFSETFROM:+0200
TZOFFSETTO:+0100
TZNAME:CET
DTSTART:20251026T010000
END:STANDARD
BEGIN:DAYLIGHT
TZOFFSETFROM:+0100
TZOFFSETTO:+0200
TZNAME:CEST
DTSTART:20260329T010000
END:DAYLIGHT
BEGIN:STANDARD
TZOFFSETFROM:+0200
TZOFFSETTO:+0100
TZNAME:CET
DTSTART:20261025T010000
END:STANDARD
BEGIN:DAYLIGHT
TZOFFSETFROM:+0100
TZOFFSETTO:+0200
TZNAME:CEST
DTSTART:20270328T010000
END:DAYLIGHT
BEGIN:STANDARD
TZOFFSETFROM:+0200
TZOFFSETTO:+0100
TZNAME:CET
DTSTART:20271031T010000
END:STANDARD
END:VTIMEZONE
BEGIN:VEVENT
DTSTART;TZID=Europe/Stockholm:20260808T143000
DTEND;TZID=Europe/Stockholm:20260808T163000
DTSTAMP:20260424T021252
CREATED:20260318T141907Z
LAST-MODIFIED:20260318T141907Z
UID:10000270-1786199400-1786206600@vaddobygden.se
SUMMARY:Älmstadalen - ÄLMSTA / ELMSTA PARK
DESCRIPTION:Älmstadalen\n8/8 kl. 14:30-16:30\nÄLMSTA / ELMSTA PARK \nGruppledarna för partier som sitter i fullmäktige kommer vara på plats\, här ni kan ställa frågor inför kommande val.
URL:https://vaddobygden.se/event/almstadalen-almsta-elmsta-park/
LOCATION:Elmsta Park\, Brinkvägen\, Väddö\, 76431
CATEGORIES:Evenemang
GEO:59.973030141062;18.814479272775
X-APPLE-STRUCTURED-LOCATION;VALUE=URI;X-ADDRESS=Elmsta Park Brinkvägen Väddö 76431;X-APPLE-RADIUS=500;X-TITLE=Brinkvägen:geo:18.814479272775,59.973030141062
END:VEVENT
BEGIN:VEVENT
DTSTART;TZID=Europe/Stockholm:20260815T130000
DTEND;TZID=Europe/Stockholm:20260815T170000
DTSTAMP:20260424T021253
CREATED:20260318T142225Z
LAST-MODIFIED:20260318T142313Z
UID:10000271-1786798800-1786813200@vaddobygden.se
SUMMARY:Väddö Visfestival - KISTA HEMBYGDSGÅRD
DESCRIPTION:Väddö Visfestival\n15/8 kl. 13:00-17:00\nKISTA HEMBYGDSGÅRD \nDen stora ladan kommer för tredje året i rad att fyllas av högklassig vismusik! En härlig blandning av nyskrivet\, nyligen tonsatt\, traditionellt\, roligt\, satiriskt\, allvarsamt med mera. Den berättande visan i sin bästa form! Garanterat skickliga visartister på scenen både kända och mindre kända. I år kommer bland andra Jenny Almsenius\, Gunnar Källström och Miranda ”Murre”Eriksson. Sjungande presentatör är Tobbe Ljunglöf.
URL:https://vaddobygden.se/event/vaddo-visfestival-kista-hembygdsgard/
LOCATION:Kista Hembygdsgård\, Kistavägen\, 760 40 Väddö\, Sverige
CATEGORIES:Kulturevenemang
GEO:59.959787926242;18.848260026853
X-APPLE-STRUCTURED-LOCATION;VALUE=URI;X-ADDRESS=Kista Hembygdsgård Kistavägen 760 40 Väddö Sverige;X-APPLE-RADIUS=500;X-TITLE=Kistavägen\, 760 40 Väddö:geo:18.848260026853,59.959787926242
END:VEVENT
END:VCALENDAR