BEGIN:VCALENDAR
VERSION:2.0
PRODID:-//Väddöbygden - ECPv6.15.20//NONSGML v1.0//EN
CALSCALE:GREGORIAN
METHOD:PUBLISH
X-WR-CALNAME:Väddöbygden
X-ORIGINAL-URL:https://vaddobygden.se
X-WR-CALDESC:Händelser för Väddöbygden
REFRESH-INTERVAL;VALUE=DURATION:PT1H
X-Robots-Tag:noindex
X-PUBLISHED-TTL:PT1H
BEGIN:VTIMEZONE
TZID:Europe/Stockholm
BEGIN:DAYLIGHT
TZOFFSETFROM:+0100
TZOFFSETTO:+0200
TZNAME:CEST
DTSTART:20220327T010000
END:DAYLIGHT
BEGIN:STANDARD
TZOFFSETFROM:+0200
TZOFFSETTO:+0100
TZNAME:CET
DTSTART:20221030T010000
END:STANDARD
BEGIN:DAYLIGHT
TZOFFSETFROM:+0100
TZOFFSETTO:+0200
TZNAME:CEST
DTSTART:20230326T010000
END:DAYLIGHT
BEGIN:STANDARD
TZOFFSETFROM:+0200
TZOFFSETTO:+0100
TZNAME:CET
DTSTART:20231029T010000
END:STANDARD
BEGIN:DAYLIGHT
TZOFFSETFROM:+0100
TZOFFSETTO:+0200
TZNAME:CEST
DTSTART:20240331T010000
END:DAYLIGHT
BEGIN:STANDARD
TZOFFSETFROM:+0200
TZOFFSETTO:+0100
TZNAME:CET
DTSTART:20241027T010000
END:STANDARD
END:VTIMEZONE
BEGIN:VEVENT
DTSTART;TZID=Europe/Stockholm:20231216T100000
DTEND;TZID=Europe/Stockholm:20231216T140000
DTSTAMP:20260422T224822
CREATED:20231110T120445Z
LAST-MODIFIED:20231110T120703Z
UID:10000070-1702720800-1702735200@vaddobygden.se
SUMMARY:Julmarknad på Musko Rökeri
DESCRIPTION:Musko Rökeri bjuder in till julmarknad där vi bjuder in lokala aktörer.\nDenna dag delar vi även ut alla förbokade julskinkor.\nHar du inte säkrat din julskinka? Kontakta oss på 0176-274106 eller maila oss på order@muskorokeri.se.\nI butiken har vi laddat upp med en massa goda delikatesser till julbordet. Butiken håller öppet kl 9-15 och marknaden kl 10-14.\nVarmt välkomna
URL:https://vaddobygden.se/event/julmarknad-pa-musko-rokeri/
LOCATION:Musko Rökeri\, Muskovägen 17\,\, Väddö\, 764 93\, Sverige
CATEGORIES:Julevenemang,Marknader
GEO:59.944667391073;18.791527640102
X-APPLE-STRUCTURED-LOCATION;VALUE=URI;X-ADDRESS=Musko Rökeri Muskovägen 17 Väddö 764 93 Sverige;X-APPLE-RADIUS=500;X-TITLE=Muskovägen 17\,:geo:18.791527640102,59.944667391073
END:VEVENT
END:VCALENDAR