BEGIN:VCALENDAR
VERSION:2.0
PRODID:-//Väddöbygden - ECPv6.15.20//NONSGML v1.0//EN
CALSCALE:GREGORIAN
METHOD:PUBLISH
X-ORIGINAL-URL:https://vaddobygden.se
X-WR-CALDESC:Händelser för Väddöbygden
REFRESH-INTERVAL;VALUE=DURATION:PT1H
X-Robots-Tag:noindex
X-PUBLISHED-TTL:PT1H
BEGIN:VTIMEZONE
TZID:Europe/Stockholm
BEGIN:DAYLIGHT
TZOFFSETFROM:+0100
TZOFFSETTO:+0200
TZNAME:CEST
DTSTART:20220327T010000
END:DAYLIGHT
BEGIN:STANDARD
TZOFFSETFROM:+0200
TZOFFSETTO:+0100
TZNAME:CET
DTSTART:20221030T010000
END:STANDARD
BEGIN:DAYLIGHT
TZOFFSETFROM:+0100
TZOFFSETTO:+0200
TZNAME:CEST
DTSTART:20230326T010000
END:DAYLIGHT
BEGIN:STANDARD
TZOFFSETFROM:+0200
TZOFFSETTO:+0100
TZNAME:CET
DTSTART:20231029T010000
END:STANDARD
BEGIN:DAYLIGHT
TZOFFSETFROM:+0100
TZOFFSETTO:+0200
TZNAME:CEST
DTSTART:20240331T010000
END:DAYLIGHT
BEGIN:STANDARD
TZOFFSETFROM:+0200
TZOFFSETTO:+0100
TZNAME:CET
DTSTART:20241027T010000
END:STANDARD
BEGIN:DAYLIGHT
TZOFFSETFROM:+0100
TZOFFSETTO:+0200
TZNAME:CEST
DTSTART:20250330T010000
END:DAYLIGHT
BEGIN:STANDARD
TZOFFSETFROM:+0200
TZOFFSETTO:+0100
TZNAME:CET
DTSTART:20251026T010000
END:STANDARD
END:VTIMEZONE
BEGIN:VEVENT
DTSTART;TZID=Europe/Stockholm:20240216T193000
DTEND;TZID=Europe/Stockholm:20240216T213000
DTSTAMP:20260423T122814
CREATED:20240108T123830Z
LAST-MODIFIED:20240108T123830Z
UID:10000082-1708111800-1708119000@vaddobygden.se
SUMMARY:Öppen sporthall för årskurs 4-9 - vikingahallen Väddö
DESCRIPTION:Öppen sporthall\, varje fredag 19:30 – 21:30 För alla i årskurs 4-9 i Vikingahallen på Väddö
URL:https://vaddobygden.se/event/oppen-sporthall-for-arskurs-4-9-vikingahallen-vaddo/2024-02-16/
LOCATION:Väddö Sportcenter – Vikingalunden\, XRGC+6Q Hammarby\, Sverige
CATEGORIES:Aktivitet,ungdom
GEO:59.975655375807;18.821914356222
X-APPLE-STRUCTURED-LOCATION;VALUE=URI;X-ADDRESS=Väddö Sportcenter – Vikingalunden XRGC+6Q Hammarby Sverige;X-APPLE-RADIUS=500;X-TITLE=XRGC+6Q Hammarby:geo:18.821914356222,59.975655375807
END:VEVENT
BEGIN:VEVENT
DTSTART;TZID=Europe/Stockholm:20240215T180000
DTEND;TZID=Europe/Stockholm:20240215T203000
DTSTAMP:20260423T122814
CREATED:20240118T135423Z
LAST-MODIFIED:20240118T135423Z
UID:10000108-1708020000-1708029000@vaddobygden.se
SUMMARY:Fritidsgården Gallerian hänger i Älmsta
DESCRIPTION:För dig mellan 13 och 17 år\,  på torsdagar hänger vi på församlingsgården i Älmsta ingång baksida. På tisdagar hänger vi i gymnastikhallen i Älmsta skola.
URL:https://vaddobygden.se/event/fritidsgarden-gallerian-hanger-i-almsta/2024-02-15/
CATEGORIES:Aktivitet,ungdom
END:VEVENT
BEGIN:VEVENT
DTSTART;TZID=Europe/Stockholm:20240213T180000
DTEND;TZID=Europe/Stockholm:20240213T203000
DTSTAMP:20260423T122814
CREATED:20240118T135423Z
LAST-MODIFIED:20240118T135423Z
UID:10000107-1707847200-1707856200@vaddobygden.se
SUMMARY:Fritidsgården Gallerian hänger i Älmsta
DESCRIPTION:För dig mellan 13 och 17 år\,  på torsdagar hänger vi på församlingsgården i Älmsta ingång baksida. På tisdagar hänger vi i gymnastikhallen i Älmsta skola.
URL:https://vaddobygden.se/event/fritidsgarden-gallerian-hanger-i-almsta/2024-02-13/
CATEGORIES:Aktivitet,ungdom
END:VEVENT
BEGIN:VEVENT
DTSTART;TZID=Europe/Stockholm:20240209T193000
DTEND;TZID=Europe/Stockholm:20240209T213000
DTSTAMP:20260423T122814
CREATED:20240108T123830Z
LAST-MODIFIED:20240108T123830Z
UID:10000081-1707507000-1707514200@vaddobygden.se
SUMMARY:Öppen sporthall för årskurs 4-9 - vikingahallen Väddö
DESCRIPTION:Öppen sporthall\, varje fredag 19:30 – 21:30 För alla i årskurs 4-9 i Vikingahallen på Väddö
URL:https://vaddobygden.se/event/oppen-sporthall-for-arskurs-4-9-vikingahallen-vaddo/2024-02-09/
LOCATION:Väddö Sportcenter – Vikingalunden\, XRGC+6Q Hammarby\, Sverige
CATEGORIES:Aktivitet,ungdom
GEO:59.975655375807;18.821914356222
X-APPLE-STRUCTURED-LOCATION;VALUE=URI;X-ADDRESS=Väddö Sportcenter – Vikingalunden XRGC+6Q Hammarby Sverige;X-APPLE-RADIUS=500;X-TITLE=XRGC+6Q Hammarby:geo:18.821914356222,59.975655375807
END:VEVENT
BEGIN:VEVENT
DTSTART;TZID=Europe/Stockholm:20240208T180000
DTEND;TZID=Europe/Stockholm:20240208T203000
DTSTAMP:20260423T122814
CREATED:20240118T135423Z
LAST-MODIFIED:20240118T135423Z
UID:10000106-1707415200-1707424200@vaddobygden.se
SUMMARY:Fritidsgården Gallerian hänger i Älmsta
DESCRIPTION:För dig mellan 13 och 17 år\,  på torsdagar hänger vi på församlingsgården i Älmsta ingång baksida. På tisdagar hänger vi i gymnastikhallen i Älmsta skola.
URL:https://vaddobygden.se/event/fritidsgarden-gallerian-hanger-i-almsta/2024-02-08/
CATEGORIES:Aktivitet,ungdom
END:VEVENT
BEGIN:VEVENT
DTSTART;TZID=Europe/Stockholm:20240206T180000
DTEND;TZID=Europe/Stockholm:20240206T203000
DTSTAMP:20260423T122814
CREATED:20240118T135423Z
LAST-MODIFIED:20240118T135423Z
UID:10000105-1707242400-1707251400@vaddobygden.se
SUMMARY:Fritidsgården Gallerian hänger i Älmsta
DESCRIPTION:För dig mellan 13 och 17 år\,  på torsdagar hänger vi på församlingsgården i Älmsta ingång baksida. På tisdagar hänger vi i gymnastikhallen i Älmsta skola.
URL:https://vaddobygden.se/event/fritidsgarden-gallerian-hanger-i-almsta/2024-02-06/
CATEGORIES:Aktivitet,ungdom
END:VEVENT
BEGIN:VEVENT
DTSTART;TZID=Europe/Stockholm:20240202T193000
DTEND;TZID=Europe/Stockholm:20240202T213000
DTSTAMP:20260423T122814
CREATED:20240108T123830Z
LAST-MODIFIED:20240108T123830Z
UID:10000080-1706902200-1706909400@vaddobygden.se
SUMMARY:Öppen sporthall för årskurs 4-9 - vikingahallen Väddö
DESCRIPTION:Öppen sporthall\, varje fredag 19:30 – 21:30 För alla i årskurs 4-9 i Vikingahallen på Väddö
URL:https://vaddobygden.se/event/oppen-sporthall-for-arskurs-4-9-vikingahallen-vaddo/2024-02-02/
LOCATION:Väddö Sportcenter – Vikingalunden\, XRGC+6Q Hammarby\, Sverige
CATEGORIES:Aktivitet,ungdom
GEO:59.975655375807;18.821914356222
X-APPLE-STRUCTURED-LOCATION;VALUE=URI;X-ADDRESS=Väddö Sportcenter – Vikingalunden XRGC+6Q Hammarby Sverige;X-APPLE-RADIUS=500;X-TITLE=XRGC+6Q Hammarby:geo:18.821914356222,59.975655375807
END:VEVENT
BEGIN:VEVENT
DTSTART;TZID=Europe/Stockholm:20240201T180000
DTEND;TZID=Europe/Stockholm:20240201T203000
DTSTAMP:20260423T122814
CREATED:20240118T135423Z
LAST-MODIFIED:20240118T135423Z
UID:10000104-1706810400-1706819400@vaddobygden.se
SUMMARY:Fritidsgården Gallerian hänger i Älmsta
DESCRIPTION:För dig mellan 13 och 17 år\,  på torsdagar hänger vi på församlingsgården i Älmsta ingång baksida. På tisdagar hänger vi i gymnastikhallen i Älmsta skola.
URL:https://vaddobygden.se/event/fritidsgarden-gallerian-hanger-i-almsta/2024-02-01/
CATEGORIES:Aktivitet,ungdom
END:VEVENT
BEGIN:VEVENT
DTSTART;TZID=Europe/Stockholm:20240130T180000
DTEND;TZID=Europe/Stockholm:20240130T203000
DTSTAMP:20260423T122814
CREATED:20240118T135423Z
LAST-MODIFIED:20240118T135423Z
UID:10000103-1706637600-1706646600@vaddobygden.se
SUMMARY:Fritidsgården Gallerian hänger i Älmsta
DESCRIPTION:För dig mellan 13 och 17 år\,  på torsdagar hänger vi på församlingsgården i Älmsta ingång baksida. På tisdagar hänger vi i gymnastikhallen i Älmsta skola.
URL:https://vaddobygden.se/event/fritidsgarden-gallerian-hanger-i-almsta/2024-01-30/
CATEGORIES:Aktivitet,ungdom
END:VEVENT
BEGIN:VEVENT
DTSTART;TZID=Europe/Stockholm:20240126T193000
DTEND;TZID=Europe/Stockholm:20240126T213000
DTSTAMP:20260423T122814
CREATED:20240108T123830Z
LAST-MODIFIED:20240108T123830Z
UID:10000079-1706297400-1706304600@vaddobygden.se
SUMMARY:Öppen sporthall för årskurs 4-9 - vikingahallen Väddö
DESCRIPTION:Öppen sporthall\, varje fredag 19:30 – 21:30 För alla i årskurs 4-9 i Vikingahallen på Väddö
URL:https://vaddobygden.se/event/oppen-sporthall-for-arskurs-4-9-vikingahallen-vaddo/2024-01-26/
LOCATION:Väddö Sportcenter – Vikingalunden\, XRGC+6Q Hammarby\, Sverige
CATEGORIES:Aktivitet,ungdom
GEO:59.975655375807;18.821914356222
X-APPLE-STRUCTURED-LOCATION;VALUE=URI;X-ADDRESS=Väddö Sportcenter – Vikingalunden XRGC+6Q Hammarby Sverige;X-APPLE-RADIUS=500;X-TITLE=XRGC+6Q Hammarby:geo:18.821914356222,59.975655375807
END:VEVENT
BEGIN:VEVENT
DTSTART;TZID=Europe/Stockholm:20240125T180000
DTEND;TZID=Europe/Stockholm:20240125T203000
DTSTAMP:20260423T122814
CREATED:20240118T135423Z
LAST-MODIFIED:20240118T135423Z
UID:10000102-1706205600-1706214600@vaddobygden.se
SUMMARY:Fritidsgården Gallerian hänger i Älmsta
DESCRIPTION:För dig mellan 13 och 17 år\,  på torsdagar hänger vi på församlingsgården i Älmsta ingång baksida. På tisdagar hänger vi i gymnastikhallen i Älmsta skola.
URL:https://vaddobygden.se/event/fritidsgarden-gallerian-hanger-i-almsta/2024-01-25/
CATEGORIES:Aktivitet,ungdom
END:VEVENT
BEGIN:VEVENT
DTSTART;TZID=Europe/Stockholm:20240123T180000
DTEND;TZID=Europe/Stockholm:20240123T203000
DTSTAMP:20260423T122814
CREATED:20240118T135423Z
LAST-MODIFIED:20240118T135423Z
UID:10000101-1706032800-1706041800@vaddobygden.se
SUMMARY:Fritidsgården Gallerian hänger i Älmsta
DESCRIPTION:För dig mellan 13 och 17 år\,  på torsdagar hänger vi på församlingsgården i Älmsta ingång baksida. På tisdagar hänger vi i gymnastikhallen i Älmsta skola.
URL:https://vaddobygden.se/event/fritidsgarden-gallerian-hanger-i-almsta/2024-01-23/
CATEGORIES:Aktivitet,ungdom
END:VEVENT
BEGIN:VEVENT
DTSTART;TZID=Europe/Stockholm:20240119T193000
DTEND;TZID=Europe/Stockholm:20240119T213000
DTSTAMP:20260423T122814
CREATED:20240108T123830Z
LAST-MODIFIED:20240108T123830Z
UID:10000078-1705692600-1705699800@vaddobygden.se
SUMMARY:Öppen sporthall för årskurs 4-9 - vikingahallen Väddö
DESCRIPTION:Öppen sporthall\, varje fredag 19:30 – 21:30 För alla i årskurs 4-9 i Vikingahallen på Väddö
URL:https://vaddobygden.se/event/oppen-sporthall-for-arskurs-4-9-vikingahallen-vaddo/2024-01-19/
LOCATION:Väddö Sportcenter – Vikingalunden\, XRGC+6Q Hammarby\, Sverige
CATEGORIES:Aktivitet,ungdom
GEO:59.975655375807;18.821914356222
X-APPLE-STRUCTURED-LOCATION;VALUE=URI;X-ADDRESS=Väddö Sportcenter – Vikingalunden XRGC+6Q Hammarby Sverige;X-APPLE-RADIUS=500;X-TITLE=XRGC+6Q Hammarby:geo:18.821914356222,59.975655375807
END:VEVENT
BEGIN:VEVENT
DTSTART;TZID=Europe/Stockholm:20240118T180000
DTEND;TZID=Europe/Stockholm:20240118T203000
DTSTAMP:20260423T122814
CREATED:20240118T135423Z
LAST-MODIFIED:20240118T135423Z
UID:10000100-1705600800-1705609800@vaddobygden.se
SUMMARY:Fritidsgården Gallerian hänger i Älmsta
DESCRIPTION:För dig mellan 13 och 17 år\,  på torsdagar hänger vi på församlingsgården i Älmsta ingång baksida. På tisdagar hänger vi i gymnastikhallen i Älmsta skola.
URL:https://vaddobygden.se/event/fritidsgarden-gallerian-hanger-i-almsta/2024-01-18/
CATEGORIES:Aktivitet,ungdom
END:VEVENT
BEGIN:VEVENT
DTSTART;TZID=Europe/Stockholm:20240112T193000
DTEND;TZID=Europe/Stockholm:20240112T213000
DTSTAMP:20260423T122814
CREATED:20240108T123830Z
LAST-MODIFIED:20240108T123830Z
UID:10000077-1705087800-1705095000@vaddobygden.se
SUMMARY:Öppen sporthall för årskurs 4-9 - vikingahallen Väddö
DESCRIPTION:Öppen sporthall\, varje fredag 19:30 – 21:30 För alla i årskurs 4-9 i Vikingahallen på Väddö
URL:https://vaddobygden.se/event/oppen-sporthall-for-arskurs-4-9-vikingahallen-vaddo/2024-01-12/
LOCATION:Väddö Sportcenter – Vikingalunden\, XRGC+6Q Hammarby\, Sverige
CATEGORIES:Aktivitet,ungdom
GEO:59.975655375807;18.821914356222
X-APPLE-STRUCTURED-LOCATION;VALUE=URI;X-ADDRESS=Väddö Sportcenter – Vikingalunden XRGC+6Q Hammarby Sverige;X-APPLE-RADIUS=500;X-TITLE=XRGC+6Q Hammarby:geo:18.821914356222,59.975655375807
END:VEVENT
BEGIN:VEVENT
DTSTART;TZID=Europe/Stockholm:20240104T100000
DTEND;TZID=Europe/Stockholm:20240104T160000
DTSTAMP:20260423T122814
CREATED:20231218T085235Z
LAST-MODIFIED:20231218T085235Z
UID:10000076-1704362400-1704384000@vaddobygden.se
SUMMARY:Jullovsmys på Bergby Gård
DESCRIPTION:Ta med familjen eller kompisgänget till Bergby Gård för en härlig välgörande stund i vår Solljusterapianläggning och utmana dem sedan i en rolig match i Cornhole\, den populära amerikanska sporten som nu är på uppgång i Sverige. \n\nHos oss spelar du på riktiga kvalitetsbrädor och med påsar av tävlingsstandard för bästa möjliga upplevelse av denna roliga sport.\nJullovspris Solljusterapi och Cornhole 350kr/person\nEndast Solljusterapi 295kr/person\nEndast Cornhole 1 timme 85kr/person\nEndast Cornhole 2 timmar 120kr/person\nDatum 27 och 28/12\, 3 och 4/1\nKöket är öppet och serverar en Amerikanskinspirerad meny.\n\nOBS. Förbokning krävs. För bokning och mer info om tider och meny mm. mejla på info@bergbygard.se
URL:https://vaddobygden.se/event/jullovsmys-pa-bergby-gard-3/
LOCATION:Bergby Gård & Logi\, Bergby 1\,\, Hallstavik\, 763 94\, Sverige
CATEGORIES:Aktivitet
GEO:60.058173283163;18.75132696734
X-APPLE-STRUCTURED-LOCATION;VALUE=URI;X-ADDRESS=Bergby Gård & Logi Bergby 1 Hallstavik 763 94 Sverige;X-APPLE-RADIUS=500;X-TITLE=Bergby 1\,:geo:18.75132696734,60.058173283163
END:VEVENT
BEGIN:VEVENT
DTSTART;TZID=Europe/Stockholm:20231228T100000
DTEND;TZID=Europe/Stockholm:20231228T160000
DTSTAMP:20260423T122814
CREATED:20231218T083848Z
LAST-MODIFIED:20231218T085334Z
UID:10000075-1703757600-1703779200@vaddobygden.se
SUMMARY:Jullovsmys på Bergby Gård
DESCRIPTION:Ta med familjen eller kompisgänget till Bergby Gård för en härlig välgörande stund i vår Solljusterapianläggning och utmana dem sedan i en rolig match i Cornhole\, den populära amerikanska sporten som nu är på uppgång i Sverige. \n\nHos oss spelar du på riktiga kvalitetsbrädor och med påsar av tävlingsstandard för bästa möjliga upplevelse av denna roliga sport.\nJullovspris Solljusterapi och Cornhole 350kr/person\nEndast Solljusterapi 295kr/person\nEndast Cornhole 1 timme 85kr/person\nEndast Cornhole 2 timmar 120kr/person\nDatum 27 och 28/12\, 3 och 4/1\nKöket är öppet och serverar en Amerikanskinspirerad meny.\n\nOBS. Förbokning krävs. För bokning och mer info om tider och meny mm. mejla på info@bergbygard.se
URL:https://vaddobygden.se/event/jullovsmys-pa-bergby-gard/
LOCATION:Bergby Gård & Logi\, Bergby 1\,\, Hallstavik\, 763 94\, Sverige
CATEGORIES:Aktivitet
GEO:60.058173283163;18.75132696734
X-APPLE-STRUCTURED-LOCATION;VALUE=URI;X-ADDRESS=Bergby Gård & Logi Bergby 1 Hallstavik 763 94 Sverige;X-APPLE-RADIUS=500;X-TITLE=Bergby 1\,:geo:18.75132696734,60.058173283163
END:VEVENT
BEGIN:VEVENT
DTSTART;TZID=Europe/Stockholm:20231227T100000
DTEND;TZID=Europe/Stockholm:20231227T160000
DTSTAMP:20260423T122814
CREATED:20231218T084349Z
LAST-MODIFIED:20231218T084350Z
UID:10000074-1703671200-1703692800@vaddobygden.se
SUMMARY:Jullovsmys på Bergby Gård
DESCRIPTION:Ta med familjen eller kompisgänget till Bergby Gård för en härlig välgörande stund i vår Solljusterapianläggning och utmana dem sedan i en rolig match i Cornhole\, den populära amerikanska sporten som nu är på uppgång i Sverige. \n\nHos oss spelar du på riktiga kvalitetsbrädor och med påsar av tävlingsstandard för bästa möjliga upplevelse av denna roliga sport.\nJullovspris Solljusterapi och Cornhole 350kr/person\nEndast Solljusterapi 295kr/person\nEndast Cornhole 1 timme 85kr/person\nEndast Cornhole 2 timmar 120kr/person\nDatum 27 och 28/12\, 3 och 4/1\nKöket är öppet och serverar en Amerikanskinspirerad meny.\n\nOBS. Förbokning krävs. För bokning och mer info om tider och meny mm. mejla på info@bergbygard.se
URL:https://vaddobygden.se/event/jullovsmys-pa-bergby-gard-2/
LOCATION:Bergby Gård & Logi\, Bergby 1\,\, Hallstavik\, 763 94\, Sverige
CATEGORIES:Aktivitet
GEO:60.058173283163;18.75132696734
X-APPLE-STRUCTURED-LOCATION;VALUE=URI;X-ADDRESS=Bergby Gård & Logi Bergby 1 Hallstavik 763 94 Sverige;X-APPLE-RADIUS=500;X-TITLE=Bergby 1\,:geo:18.75132696734,60.058173283163
END:VEVENT
BEGIN:VEVENT
DTSTART;TZID=Europe/Stockholm:20231216T100000
DTEND;TZID=Europe/Stockholm:20231216T140000
DTSTAMP:20260423T122814
CREATED:20231110T120445Z
LAST-MODIFIED:20231110T120703Z
UID:10000070-1702720800-1702735200@vaddobygden.se
SUMMARY:Julmarknad på Musko Rökeri
DESCRIPTION:Musko Rökeri bjuder in till julmarknad där vi bjuder in lokala aktörer.\nDenna dag delar vi även ut alla förbokade julskinkor.\nHar du inte säkrat din julskinka? Kontakta oss på 0176-274106 eller maila oss på order@muskorokeri.se.\nI butiken har vi laddat upp med en massa goda delikatesser till julbordet. Butiken håller öppet kl 9-15 och marknaden kl 10-14.\nVarmt välkomna
URL:https://vaddobygden.se/event/julmarknad-pa-musko-rokeri/
LOCATION:Musko Rökeri\, Muskovägen 17\,\, Väddö\, 764 93\, Sverige
CATEGORIES:Julevenemang,Marknader
GEO:59.944667391073;18.791527640102
X-APPLE-STRUCTURED-LOCATION;VALUE=URI;X-ADDRESS=Musko Rökeri Muskovägen 17 Väddö 764 93 Sverige;X-APPLE-RADIUS=500;X-TITLE=Muskovägen 17\,:geo:18.791527640102,59.944667391073
END:VEVENT
BEGIN:VEVENT
DTSTART;TZID=Europe/Stockholm:20231208T193000
DTEND;TZID=Europe/Stockholm:20231208T213000
DTSTAMP:20260423T122814
CREATED:20230907T094755Z
LAST-MODIFIED:20230907T095447Z
UID:10000056-1702063800-1702071000@vaddobygden.se
SUMMARY:Öppen sporthall - Vikingahallen på Väddö
DESCRIPTION:Välkommen alla i årskurs 4-9 till Vikingahallen på Väddö\, aktiviteten är helt gratis.
URL:https://vaddobygden.se/event/oppen-sporthall-vikingahallen-pa-vaddo/2023-12-08/
LOCATION:Väddö Sportcenter – Vikingalunden\, XRGC+6Q Hammarby\, Sverige
CATEGORIES:Aktivitet,ungdom
GEO:59.975655375807;18.821914356222
X-APPLE-STRUCTURED-LOCATION;VALUE=URI;X-ADDRESS=Väddö Sportcenter – Vikingalunden XRGC+6Q Hammarby Sverige;X-APPLE-RADIUS=500;X-TITLE=XRGC+6Q Hammarby:geo:18.821914356222,59.975655375807
END:VEVENT
BEGIN:VEVENT
DTSTART;TZID=Europe/Stockholm:20231207T180000
DTEND;TZID=Europe/Stockholm:20231207T210000
DTSTAMP:20260423T122814
CREATED:20230907T093515Z
LAST-MODIFIED:20230907T093515Z
UID:10000042-1701972000-1701982800@vaddobygden.se
SUMMARY:Fritidsgården Gallerian i samverkan med Svenska kyrkan
DESCRIPTION:Välkommen till Fritidsgården Gallerian för dig mellan årskurs 6 till 17 år
URL:https://vaddobygden.se/event/fritidsgarden-gallerian-i-samverkan-med-svenska-kyrkan/2023-12-07/
LOCATION:Väddö Församling\, XR95+P4 Älmsta\, Sverige
CATEGORIES:Aktivitet,ungdom
END:VEVENT
BEGIN:VEVENT
DTSTART;TZID=Europe/Stockholm:20231203T100000
DTEND;TZID=Europe/Stockholm:20231203T150000
DTSTAMP:20260423T122814
CREATED:20231010T093753Z
LAST-MODIFIED:20231010T093753Z
UID:10000061-1701597600-1701615600@vaddobygden.se
SUMMARY:Julmarknad på Kröns Trädgård
DESCRIPTION:Julmarknad på Kröns Trädgård lördag och söndag\, 2 – 3/12 Ett 30-tal utställare dukar fram delikatesser o konsthantverk: snickrat\, stickat\, sytt och makramé\, tomte\, musik och Vischans café och mycket mer! Även julgransförsäljning.
URL:https://vaddobygden.se/event/julmarknad-pa-krons-tradgard/2023-12-03/
LOCATION:Kröns Trädgårds café\, XRH8+MC Hammarby\, Väddö\, Väddö\, 76491\, Sverige
CATEGORIES:Marknader
END:VEVENT
BEGIN:VEVENT
DTSTART;TZID=Europe/Stockholm:20231202T100000
DTEND;TZID=Europe/Stockholm:20231202T150000
DTSTAMP:20260423T122814
CREATED:20231010T093753Z
LAST-MODIFIED:20231010T093753Z
UID:10000060-1701511200-1701529200@vaddobygden.se
SUMMARY:Julmarknad på Kröns Trädgård
DESCRIPTION:Julmarknad på Kröns Trädgård lördag och söndag\, 2 – 3/12 Ett 30-tal utställare dukar fram delikatesser o konsthantverk: snickrat\, stickat\, sytt och makramé\, tomte\, musik och Vischans café och mycket mer! Även julgransförsäljning.
URL:https://vaddobygden.se/event/julmarknad-pa-krons-tradgard/2023-12-02/
LOCATION:Kröns Trädgårds café\, XRH8+MC Hammarby\, Väddö\, Väddö\, 76491\, Sverige
CATEGORIES:Marknader
END:VEVENT
BEGIN:VEVENT
DTSTART;TZID=Europe/Stockholm:20231201T193000
DTEND;TZID=Europe/Stockholm:20231201T213000
DTSTAMP:20260423T122814
CREATED:20230907T094755Z
LAST-MODIFIED:20230907T095447Z
UID:10000055-1701459000-1701466200@vaddobygden.se
SUMMARY:Öppen sporthall - Vikingahallen på Väddö
DESCRIPTION:Välkommen alla i årskurs 4-9 till Vikingahallen på Väddö\, aktiviteten är helt gratis.
URL:https://vaddobygden.se/event/oppen-sporthall-vikingahallen-pa-vaddo/2023-12-01/
LOCATION:Väddö Sportcenter – Vikingalunden\, XRGC+6Q Hammarby\, Sverige
CATEGORIES:Aktivitet,ungdom
GEO:59.975655375807;18.821914356222
X-APPLE-STRUCTURED-LOCATION;VALUE=URI;X-ADDRESS=Väddö Sportcenter – Vikingalunden XRGC+6Q Hammarby Sverige;X-APPLE-RADIUS=500;X-TITLE=XRGC+6Q Hammarby:geo:18.821914356222,59.975655375807
END:VEVENT
BEGIN:VEVENT
DTSTART;TZID=Europe/Stockholm:20231130T180000
DTEND;TZID=Europe/Stockholm:20231130T210000
DTSTAMP:20260423T122814
CREATED:20230907T093515Z
LAST-MODIFIED:20230907T093515Z
UID:10000041-1701367200-1701378000@vaddobygden.se
SUMMARY:Fritidsgården Gallerian i samverkan med Svenska kyrkan
DESCRIPTION:Välkommen till Fritidsgården Gallerian för dig mellan årskurs 6 till 17 år
URL:https://vaddobygden.se/event/fritidsgarden-gallerian-i-samverkan-med-svenska-kyrkan/2023-11-30/
LOCATION:Väddö Församling\, XR95+P4 Älmsta\, Sverige
CATEGORIES:Aktivitet,ungdom
END:VEVENT
BEGIN:VEVENT
DTSTART;TZID=Europe/Stockholm:20231129T080000
DTEND;TZID=Europe/Stockholm:20231129T093000
DTSTAMP:20260423T122814
CREATED:20231113T123134Z
LAST-MODIFIED:20231113T123134Z
UID:10000072-1701244800-1701250200@vaddobygden.se
SUMMARY:Branschspecifik träff med besöksnäringen - Norrtälje
DESCRIPTION:Norrtälje kommun arbetar för att ta ett nytt grepp för den lokala turismen och besöksnäringen. Vi ser ert företag som en viktig del av denna satsning och skulle därför vilja inbjuda er till en branschspecifik träff där vi tillsammans kan diskutera och samla era tankar och behov för att stärka och utveckla turismnäringen i vår region. \nDatum: 29 november \nTid: 8.00-9.30\, vi bjuder på smörgås och kaffe från 7.30-9.30 \nPlats: Återkommer \n  \nUnder denna träff kommer vi att: \n  \n\nPresentera Norrtälje kommuns tankar inför kommande ansvaret för turism- och destinationsutvecklingen från februari 2024.\nDiskutera behov och önskemål för att stödja och främja er verksamhet inom turism- och besöksnäringen.\n\n  \nVi värdesätter er expertis och era idéer för att tillsammans skapa en starkare turismnäring i Norrtälje kommun. \n  \nVänligen bekräfta er närvaro senast:  24 november \nLänk anmälan:\nhttps://norrtalje.proofx.se/17J3f9yRjOjO5ReDMHDQZB/
URL:https://vaddobygden.se/event/branschspecifik-traff-med-besoksnaringen-norrtalje/
CATEGORIES:Föreläsning
END:VEVENT
BEGIN:VEVENT
DTSTART;TZID=Europe/Stockholm:20231126T183000
DTEND;TZID=Europe/Stockholm:20231126T200000
DTSTAMP:20260423T122814
CREATED:20231114T095921Z
LAST-MODIFIED:20231114T095921Z
UID:10000073-1701023400-1701028800@vaddobygden.se
SUMMARY:Lyssna om "väddöandan" - Vikingahallen
DESCRIPTION:Välkommen till Vikingahallen!\nKom och lyssna på när vi i Väddöbygden ideella förening berättar om “väddöandan” och alla projekt vi jobbar med. Projekten från ElmstaNatta – Cykelväg har pågått i mer än 35 år och nu behöver vi bli fler för att klara av underhåll och eventuella framtida projekt. \nIngen kan göra allt men tillsammans kan vi göra mycket! \nVåra projekt: Gångbryggan\, Elmstapark\, ElmstaNatta\, Kanalstigen\, Lekparken\, Kanalparken\, Cykelvägen (helt klar sommaren 2024)
URL:https://vaddobygden.se/event/lyssna-om-vaddoandan-vikingahallen/
LOCATION:Väddö Sportcenter – Vikingalunden\, XRGC+6Q Hammarby\, Sverige
CATEGORIES:Föreläsning
GEO:59.975655375807;18.821914356222
X-APPLE-STRUCTURED-LOCATION;VALUE=URI;X-ADDRESS=Väddö Sportcenter – Vikingalunden XRGC+6Q Hammarby Sverige;X-APPLE-RADIUS=500;X-TITLE=XRGC+6Q Hammarby:geo:18.821914356222,59.975655375807
END:VEVENT
BEGIN:VEVENT
DTSTART;TZID=Europe/Stockholm:20231125T100000
DTEND;TZID=Europe/Stockholm:20231125T150000
DTSTAMP:20260423T122814
CREATED:20231110T113704Z
LAST-MODIFIED:20231110T113704Z
UID:10000067-1700906400-1700924400@vaddobygden.se
SUMMARY:Loppis & marknad i Älmsta
DESCRIPTION:
URL:https://vaddobygden.se/event/loppis-marknad-i-almsta/
LOCATION:Elmsta Färg & Järnhandel\, Grisslehamnsvägen 7\,\, Väddö\, 764 30\, Sverige
CATEGORIES:Loppis,Marknader
GEO:59.972680245631;18.809353717679
X-APPLE-STRUCTURED-LOCATION;VALUE=URI;X-ADDRESS=Elmsta Färg & Järnhandel Grisslehamnsvägen 7 Väddö 764 30 Sverige;X-APPLE-RADIUS=500;X-TITLE=Grisslehamnsvägen 7\,:geo:18.809353717679,59.972680245631
END:VEVENT
BEGIN:VEVENT
DTSTART;TZID=Europe/Stockholm:20231124T193000
DTEND;TZID=Europe/Stockholm:20231124T213000
DTSTAMP:20260423T122814
CREATED:20230907T094755Z
LAST-MODIFIED:20230907T095447Z
UID:10000054-1700854200-1700861400@vaddobygden.se
SUMMARY:Öppen sporthall - Vikingahallen på Väddö
DESCRIPTION:Välkommen alla i årskurs 4-9 till Vikingahallen på Väddö\, aktiviteten är helt gratis.
URL:https://vaddobygden.se/event/oppen-sporthall-vikingahallen-pa-vaddo/2023-11-24/
LOCATION:Väddö Sportcenter – Vikingalunden\, XRGC+6Q Hammarby\, Sverige
CATEGORIES:Aktivitet,ungdom
GEO:59.975655375807;18.821914356222
X-APPLE-STRUCTURED-LOCATION;VALUE=URI;X-ADDRESS=Väddö Sportcenter – Vikingalunden XRGC+6Q Hammarby Sverige;X-APPLE-RADIUS=500;X-TITLE=XRGC+6Q Hammarby:geo:18.821914356222,59.975655375807
END:VEVENT
BEGIN:VEVENT
DTSTART;TZID=Europe/Stockholm:20231123T180000
DTEND;TZID=Europe/Stockholm:20231123T210000
DTSTAMP:20260423T122815
CREATED:20230907T093515Z
LAST-MODIFIED:20230907T093515Z
UID:10000040-1700762400-1700773200@vaddobygden.se
SUMMARY:Fritidsgården Gallerian i samverkan med Svenska kyrkan
DESCRIPTION:Välkommen till Fritidsgården Gallerian för dig mellan årskurs 6 till 17 år
URL:https://vaddobygden.se/event/fritidsgarden-gallerian-i-samverkan-med-svenska-kyrkan/2023-11-23/
LOCATION:Väddö Församling\, XR95+P4 Älmsta\, Sverige
CATEGORIES:Aktivitet,ungdom
END:VEVENT
END:VCALENDAR