BEGIN:VCALENDAR
VERSION:2.0
PRODID:-//Väddöbygden - ECPv6.15.20//NONSGML v1.0//EN
CALSCALE:GREGORIAN
METHOD:PUBLISH
X-ORIGINAL-URL:https://vaddobygden.se
X-WR-CALDESC:Händelser för Väddöbygden
REFRESH-INTERVAL;VALUE=DURATION:PT1H
X-Robots-Tag:noindex
X-PUBLISHED-TTL:PT1H
BEGIN:VTIMEZONE
TZID:Europe/Stockholm
BEGIN:DAYLIGHT
TZOFFSETFROM:+0100
TZOFFSETTO:+0200
TZNAME:CEST
DTSTART:20240331T010000
END:DAYLIGHT
BEGIN:STANDARD
TZOFFSETFROM:+0200
TZOFFSETTO:+0100
TZNAME:CET
DTSTART:20241027T010000
END:STANDARD
BEGIN:DAYLIGHT
TZOFFSETFROM:+0100
TZOFFSETTO:+0200
TZNAME:CEST
DTSTART:20250330T010000
END:DAYLIGHT
BEGIN:STANDARD
TZOFFSETFROM:+0200
TZOFFSETTO:+0100
TZNAME:CET
DTSTART:20251026T010000
END:STANDARD
BEGIN:DAYLIGHT
TZOFFSETFROM:+0100
TZOFFSETTO:+0200
TZNAME:CEST
DTSTART:20260329T010000
END:DAYLIGHT
BEGIN:STANDARD
TZOFFSETFROM:+0200
TZOFFSETTO:+0100
TZNAME:CET
DTSTART:20261025T010000
END:STANDARD
END:VTIMEZONE
BEGIN:VEVENT
DTSTART;TZID=Europe/Stockholm:20250503T120000
DTEND;TZID=Europe/Stockholm:20250503T143000
DTSTAMP:20260424T144152
CREATED:20250428T133739Z
LAST-MODIFIED:20250428T133739Z
UID:10000212-1746273600-1746282600@vaddobygden.se
SUMMARY:Knytis - Bytis | Grisslehamn - Dansbanan
DESCRIPTION:Kom och var med på knytis-bytis i din bygd! Vi gjorde det i fjol och det var såå roligt\, så det gör vi om i år igen. Tala gärna om för och tag med vänner\, släkt och grannar\nLaga\, baka\, gör något som du gillar och vill bjuda på. Det kan vara någon god kaka\, bulle\, pizza\, paj\, dryck t.ex. \nHar du överskott på växter som perenner\, fröer\, sticklingar eller annat ifrån din trädgård.\nTag med dig detta goda till knytis-bytis-dagen och låt andra smaka. Tag med vad som behövs för att bjussa; papptallrik\, servett eller dyl. \nOm alla tar med sig något som de kan bjuda på så kan vi smaka på varandras medhavda.\nHar du recept på ditt goda\, tag gärna med det. \nHar du överskott på perenner\, fröer\, sticklingar eller annat ifrån din trädgård. Tag med och dela med dig! Någon annan har kanske överflöd av något som du saknar. \nDet kommer att finnas bord på plats. \nViktigt!\n• Ingenting ska kosta pengar! \n• Det gäller att bjussa om du vill smaka!\n• Träffas och ha trevligt\n• Tag gärna med en picknickfilt och en termos fika.
URL:https://vaddobygden.se/event/knytis-bytis-grisslehamn-dansbanan/
LOCATION:Grisslehamns Sportklubb / dansbana\, Medborgarvägen 6\, 764 56 Grisslehamn\, Grisslehamn\, Sverige
CATEGORIES:Aktivitet
GEO:60.097481416338;18.803752855499
X-APPLE-STRUCTURED-LOCATION;VALUE=URI;X-ADDRESS=Grisslehamns Sportklubb / dansbana Medborgarvägen 6 764 56 Grisslehamn Grisslehamn Sverige;X-APPLE-RADIUS=500;X-TITLE=Medborgarvägen 6\, 764 56 Grisslehamn:geo:18.803752855499,60.097481416338
END:VEVENT
BEGIN:VEVENT
DTSTART;TZID=Europe/Stockholm:20250510T120000
DTEND;TZID=Europe/Stockholm:20250510T143000
DTSTAMP:20260424T144152
CREATED:20250428T134022Z
LAST-MODIFIED:20250428T134022Z
UID:10000213-1746878400-1746887400@vaddobygden.se
SUMMARY:Knytis - Bytis  |  Hembygdsgården\, Björkö
DESCRIPTION:Kom och var med på knytis-bytis i din bygd! Vi gjorde det i fjol och det var såå roligt\, så det gör vi om i år igen. Tala gärna om för och tag med vänner\, släkt och grannar\nLaga\, baka\, gör något som du gillar och vill bjuda på. Det kan vara någon god kaka\, bulle\, pizza\, paj\, dryck t.ex.\nHar du överskott på växter som perenner\, fröer\, sticklingar eller annat ifrån din trädgård.\nTag med dig detta goda till knytis-bytis-dagen och låt andra smaka. Tag med vad som behövs för att bjussa; papptallrik\, servett eller dyl.\nOm alla tar med sig något som de kan bjuda på så kan vi smaka på varandras medhavda.\nHar du recept på ditt goda\, tag gärna med det.\nHar du överskott på perenner\, fröer\, sticklingar eller annat ifrån din trädgård. Tag med och dela med dig! Någon annan har kanske överflöd av något som du saknar.\nDet kommer att finnas bord på plats.\nViktigt!\n• Ingenting ska kosta pengar!\n• Det gäller att bjussa om du vill smaka!\n• Träffas och ha trevligt\n• Tag gärna med en picknickfilt och en termos fika.
URL:https://vaddobygden.se/event/knytis-bytis-hembygdsgarden-bjorko/
LOCATION:Björkö hembygdsgård\, V26M+7W Skeninge\, Sverige
CATEGORIES:Aktivitet
GEO:59.860487503381;19.034381187216
X-APPLE-STRUCTURED-LOCATION;VALUE=URI;X-ADDRESS=Björkö hembygdsgård V26M+7W Skeninge Sverige;X-APPLE-RADIUS=500;X-TITLE=V26M+7W Skeninge:geo:19.034381187216,59.860487503381
END:VEVENT
BEGIN:VEVENT
DTSTART;TZID=Europe/Stockholm:20250517T120000
DTEND;TZID=Europe/Stockholm:20250517T143000
DTSTAMP:20260424T144152
CREATED:20250428T134301Z
LAST-MODIFIED:20250428T134301Z
UID:10000214-1747483200-1747492200@vaddobygden.se
SUMMARY:Knytis - Bytis  |  Söderby-Karl\, Erikskulle
DESCRIPTION:Kom och var med på knytis-bytis i din bygd! Vi gjorde det i fjol och det var såå roligt\, så det gör vi om i år igen. Tala gärna om för och tag med vänner\, släkt och grannar\nLaga\, baka\, gör något som du gillar och vill bjuda på. Det kan vara någon god kaka\, bulle\, pizza\, paj\, dryck t.ex.\nHar du överskott på växter som perenner\, fröer\, sticklingar eller annat ifrån din trädgård.\nTag med dig detta goda till knytis-bytis-dagen och låt andra smaka. Tag med vad som behövs för att bjussa; papptallrik\, servett eller dyl.\nOm alla tar med sig något som de kan bjuda på så kan vi smaka på varandras medhavda.\nHar du recept på ditt goda\, tag gärna med det.\nHar du överskott på perenner\, fröer\, sticklingar eller annat ifrån din trädgård. Tag med och dela med dig! Någon annan har kanske överflöd av något som du saknar.\nDet kommer att finnas bord på plats.\nViktigt!\n• Ingenting ska kosta pengar!\n• Det gäller att bjussa om du vill smaka!\n• Träffas och ha trevligt\n• Tag gärna med en picknickfilt och en termos fika.
URL:https://vaddobygden.se/event/knytis-bytis-soderby-karl-erikskulle/
LOCATION:Erikskulle Hembygdsgård\, VPR6+7M Vik\, Sverige
CATEGORIES:Aktivitet
GEO:59.890729449811;18.711595582673
X-APPLE-STRUCTURED-LOCATION;VALUE=URI;X-ADDRESS=Erikskulle Hembygdsgård VPR6+7M Vik Sverige;X-APPLE-RADIUS=500;X-TITLE=VPR6+7M Vik:geo:18.711595582673,59.890729449811
END:VEVENT
BEGIN:VEVENT
DTSTART;TZID=Europe/Stockholm:20250524T120000
DTEND;TZID=Europe/Stockholm:20250524T143000
DTSTAMP:20260424T144152
CREATED:20250428T134514Z
LAST-MODIFIED:20250428T134514Z
UID:10000215-1748088000-1748097000@vaddobygden.se
SUMMARY:Knytis - Bytis  |  Singö - vid skolan
DESCRIPTION:Kom och var med på knytis-bytis i din bygd! Vi gjorde det i fjol och det var såå roligt\, så det gör vi om i år igen. Tala gärna om för och tag med vänner\, släkt och grannar\nLaga\, baka\, gör något som du gillar och vill bjuda på. Det kan vara någon god kaka\, bulle\, pizza\, paj\, dryck t.ex.\nHar du överskott på växter som perenner\, fröer\, sticklingar eller annat ifrån din trädgård.\nTag med dig detta goda till knytis-bytis-dagen och låt andra smaka. Tag med vad som behövs för att bjussa; papptallrik\, servett eller dyl.\nOm alla tar med sig något som de kan bjuda på så kan vi smaka på varandras medhavda.\nHar du recept på ditt goda\, tag gärna med det.\nHar du överskott på perenner\, fröer\, sticklingar eller annat ifrån din trädgård. Tag med och dela med dig! Någon annan har kanske överflöd av något som du saknar.\nDet kommer att finnas bord på plats.\nViktigt!\n• Ingenting ska kosta pengar!\n• Det gäller att bjussa om du vill smaka!\n• Träffas och ha trevligt\n• Tag gärna med en picknickfilt och en termos fika.
URL:https://vaddobygden.se/event/knytis-bytis-singo-vid-skolan/
LOCATION:Väddö
CATEGORIES:Aktivitet
END:VEVENT
BEGIN:VEVENT
DTSTART;TZID=Europe/Stockholm:20250531T120000
DTEND;TZID=Europe/Stockholm:20250531T143000
DTSTAMP:20260424T144152
CREATED:20250512T114938Z
LAST-MODIFIED:20250512T114938Z
UID:10000216-1748692800-1748701800@vaddobygden.se
SUMMARY:Knytis - Bytis | Elmsta - Elmsta park
DESCRIPTION:Kom och var med på knytis-bytis i din bygd! Vi gjorde det i fjol och det var såå roligt\, så det gör vi om i år igen. Tala gärna om för och tag med vänner\, släkt och grannar\nLaga\, baka\, gör något som du gillar och vill bjuda på. Det kan vara någon god kaka\, bulle\, pizza\, paj\, dryck t.ex. \nHar du överskott på växter som perenner\, fröer\, sticklingar eller annat ifrån din trädgård.\nTag med dig detta goda till knytis-bytis-dagen och låt andra smaka. Tag med vad som behövs för att bjussa; papptallrik\, servett eller dyl. \nOm alla tar med sig något som de kan bjuda på så kan vi smaka på varandras medhavda.\nHar du recept på ditt goda\, tag gärna med det. \nHar du överskott på perenner\, fröer\, sticklingar eller annat ifrån din trädgård. Tag med och dela med dig! Någon annan har kanske överflöd av något som du saknar. \nDet kommer att finnas bord på plats. \nViktigt!\n• Ingenting ska kosta pengar! \n• Det gäller att bjussa om du vill smaka!\n• Träffas och ha trevligt\n• Tag gärna med en picknickfilt och en termos fika.
URL:https://vaddobygden.se/event/knytis-bytis-elmsta-elmsta-park/
LOCATION:Elmsta Park\, Brinkvägen\, Väddö\, 76431
CATEGORIES:Aktivitet
GEO:59.973030141062;18.814479272775
X-APPLE-STRUCTURED-LOCATION;VALUE=URI;X-ADDRESS=Elmsta Park Brinkvägen Väddö 76431;X-APPLE-RADIUS=500;X-TITLE=Brinkvägen:geo:18.814479272775,59.973030141062
END:VEVENT
END:VCALENDAR